BEGIN:VCALENDAR
VERSION:2.0
PRODID:-//Centre for International Experience - ECPv6.15.12.2//NONSGML v1.0//EN
CALSCALE:GREGORIAN
METHOD:PUBLISH
X-WR-CALNAME:Centre for International Experience
X-ORIGINAL-URL:https://internationalexperience.utoronto.ca
X-WR-CALDESC:Events for Centre for International Experience
REFRESH-INTERVAL;VALUE=DURATION:PT1H
X-Robots-Tag:noindex
X-PUBLISHED-TTL:PT1H
BEGIN:VTIMEZONE
TZID:America/Toronto
BEGIN:DAYLIGHT
TZOFFSETFROM:-0500
TZOFFSETTO:-0400
TZNAME:EDT
DTSTART:20250309T070000
END:DAYLIGHT
BEGIN:STANDARD
TZOFFSETFROM:-0400
TZOFFSETTO:-0500
TZNAME:EST
DTSTART:20251102T060000
END:STANDARD
BEGIN:DAYLIGHT
TZOFFSETFROM:-0500
TZOFFSETTO:-0400
TZNAME:EDT
DTSTART:20260308T070000
END:DAYLIGHT
BEGIN:STANDARD
TZOFFSETFROM:-0400
TZOFFSETTO:-0500
TZNAME:EST
DTSTART:20261101T060000
END:STANDARD
BEGIN:DAYLIGHT
TZOFFSETFROM:-0500
TZOFFSETTO:-0400
TZNAME:EDT
DTSTART:20270314T070000
END:DAYLIGHT
BEGIN:STANDARD
TZOFFSETFROM:-0400
TZOFFSETTO:-0500
TZNAME:EST
DTSTART:20271107T060000
END:STANDARD
END:VTIMEZONE
BEGIN:VEVENT
DTSTART;TZID=America/Toronto:20260129T110000
DTEND;TZID=America/Toronto:20260129T120000
DTSTAMP:20260420T074739
CREATED:20260128T144854Z
LAST-MODIFIED:20260128T144854Z
UID:8023-1769684400-1769688000@internationalexperience.utoronto.ca
SUMMARY:UHIP Q&A
DESCRIPTION:Don’t miss this Q&A session hosted ervey week by a UHIP advisor! Prepare your UHIP related questions and we’ll answer them for you!
URL:https://internationalexperience.utoronto.ca/event/uhip-qa-37
LOCATION:Virtual Location\, See event details for registration and/or access link.\, Canada
END:VEVENT
BEGIN:VEVENT
DTSTART;TZID=America/Toronto:20260129T140000
DTEND;TZID=America/Toronto:20260129T150000
DTSTAMP:20260420T074739
CREATED:20251128T214604Z
LAST-MODIFIED:20251128T214604Z
UID:7875-1769695200-1769698800@internationalexperience.utoronto.ca
SUMMARY:Working in Canada and Entry Documents: Online Q&A Session
DESCRIPTION:Are you an international student who would like to work in Canada? Do you have questions about your legal authorization to work? We have the answers! \nThis live online Question and Answer (Q&A) session will be hosted by one of CIE’s immigration advisors. Come ask your questions directly! \nYour questions will guide the discussion. \n(To pre-register for this Q&A session\, click the ‘Website’ link below. Your Folio booking confirmation message will include the Zoom session link.)
URL:https://internationalexperience.utoronto.ca/event/working-in-canada-and-entry-documents-online-qa-session-99
LOCATION:Virtual Location\, See event details for registration and/or access link.\, Canada
CATEGORIES:Entry Documents,Information,working in canada
ORGANIZER;CN="International Student Immigration Advisors - Centre for International Experience (CIE)":MAILTO:isa.cie@utoronto.ca
END:VEVENT
END:VCALENDAR