BEGIN:VCALENDAR
VERSION:2.0
PRODID:-//Centre for International Experience - ECPv6.15.12.2//NONSGML v1.0//EN
CALSCALE:GREGORIAN
METHOD:PUBLISH
X-WR-CALNAME:Centre for International Experience
X-ORIGINAL-URL:https://internationalexperience.utoronto.ca
X-WR-CALDESC:Events for Centre for International Experience
REFRESH-INTERVAL;VALUE=DURATION:PT1H
X-Robots-Tag:noindex
X-PUBLISHED-TTL:PT1H
BEGIN:VTIMEZONE
TZID:America/Toronto
BEGIN:DAYLIGHT
TZOFFSETFROM:-0500
TZOFFSETTO:-0400
TZNAME:EDT
DTSTART:20250309T070000
END:DAYLIGHT
BEGIN:STANDARD
TZOFFSETFROM:-0400
TZOFFSETTO:-0500
TZNAME:EST
DTSTART:20251102T060000
END:STANDARD
BEGIN:DAYLIGHT
TZOFFSETFROM:-0500
TZOFFSETTO:-0400
TZNAME:EDT
DTSTART:20260308T070000
END:DAYLIGHT
BEGIN:STANDARD
TZOFFSETFROM:-0400
TZOFFSETTO:-0500
TZNAME:EST
DTSTART:20261101T060000
END:STANDARD
BEGIN:DAYLIGHT
TZOFFSETFROM:-0500
TZOFFSETTO:-0400
TZNAME:EDT
DTSTART:20270314T070000
END:DAYLIGHT
BEGIN:STANDARD
TZOFFSETFROM:-0400
TZOFFSETTO:-0500
TZNAME:EST
DTSTART:20271107T060000
END:STANDARD
END:VTIMEZONE
BEGIN:VEVENT
DTSTART;TZID=America/Toronto:20260223T170000
DTEND;TZID=America/Toronto:20260223T190000
DTSTAMP:20260420T171540
CREATED:20251204T162248Z
LAST-MODIFIED:20251204T162248Z
UID:7908-1771866000-1771873200@internationalexperience.utoronto.ca
SUMMARY:International Student Career Discovery Support Group
DESCRIPTION:In partnership with CIE and CxEd\, the International Student Career Discovery Support Group is dedicated to helping international students smoothly transition into their chosen career fields. Our goal is to provide participants with the knowledge\, skills\, and support they need. We also aim to acknowledge the various challenges faced by international students. \nThis support group is carefully crafted to give participants a well-rounded understanding of themselves\, career development\, while building community among international students as finding a job can be an isolating process.
URL:https://internationalexperience.utoronto.ca/event/international-student-career-discovery-support-group-19
LOCATION:Centre for International Experience\, 33 St George St\, Toronto ON\, Toronto\, Ontario\, M5S 2E3\, Canada
END:VEVENT
END:VCALENDAR