BEGIN:VCALENDAR
VERSION:2.0
PRODID:-//Centre for International Experience - ECPv6.15.12.2//NONSGML v1.0//EN
CALSCALE:GREGORIAN
METHOD:PUBLISH
X-WR-CALNAME:Centre for International Experience
X-ORIGINAL-URL:https://internationalexperience.utoronto.ca
X-WR-CALDESC:Events for Centre for International Experience
REFRESH-INTERVAL;VALUE=DURATION:PT1H
X-Robots-Tag:noindex
X-PUBLISHED-TTL:PT1H
BEGIN:VTIMEZONE
TZID:America/Toronto
BEGIN:DAYLIGHT
TZOFFSETFROM:-0500
TZOFFSETTO:-0400
TZNAME:EDT
DTSTART:20250309T070000
END:DAYLIGHT
BEGIN:STANDARD
TZOFFSETFROM:-0400
TZOFFSETTO:-0500
TZNAME:EST
DTSTART:20251102T060000
END:STANDARD
BEGIN:DAYLIGHT
TZOFFSETFROM:-0500
TZOFFSETTO:-0400
TZNAME:EDT
DTSTART:20260308T070000
END:DAYLIGHT
BEGIN:STANDARD
TZOFFSETFROM:-0400
TZOFFSETTO:-0500
TZNAME:EST
DTSTART:20261101T060000
END:STANDARD
BEGIN:DAYLIGHT
TZOFFSETFROM:-0500
TZOFFSETTO:-0400
TZNAME:EDT
DTSTART:20270314T070000
END:DAYLIGHT
BEGIN:STANDARD
TZOFFSETFROM:-0400
TZOFFSETTO:-0500
TZNAME:EST
DTSTART:20271107T060000
END:STANDARD
END:VTIMEZONE
BEGIN:VEVENT
DTSTART;TZID=America/Toronto:20260310T110000
DTEND;TZID=America/Toronto:20260310T120000
DTSTAMP:20260420T141413
CREATED:20260224T163506Z
LAST-MODIFIED:20260224T163913Z
UID:8269-1773140400-1773144000@internationalexperience.utoronto.ca
SUMMARY:CRA Introduction to Income Taxes in Canada
DESCRIPTION:New to Canada? Filing your tax return for the first time? Want to learn all about taxes? Join us as a representative from the Canada Revenue Agency (CRA) gives an overview of income taxes in Canada for international students and answers your questions!
URL:https://internationalexperience.utoronto.ca/event/cra-introduction-to-income-taxes-in-canada-30
LOCATION:Virtual Location\, See event details for registration and/or access link.\, Canada
END:VEVENT
BEGIN:VEVENT
DTSTART;TZID=America/Toronto:20260310T140000
DTEND;TZID=America/Toronto:20260310T150000
DTSTAMP:20260420T141413
CREATED:20251204T212519Z
LAST-MODIFIED:20251204T212519Z
UID:7938-1773151200-1773154800@internationalexperience.utoronto.ca
SUMMARY:Study Permits and Entry Documents: Online Q&A Session
DESCRIPTION:This live online Question and Answer (Q&A) session will be hosted by one of CIE’s immigration advisors. Come ask your questions directly! \nThe session will cover these topics: \n\nhow to apply for a study permit from outside Canada\nhow to apply to extend a study permit from inside Canada\nhow to get an “entry visa” (TRV) or electronic travel authorization (eTA)\n\nYour questions will guide the discussion. \n(To pre-register for this Q&A session\, click the ‘Website’ link below. Your Folio booking confirmation message will include the Zoom session link.)
URL:https://internationalexperience.utoronto.ca/event/study-permits-and-entry-documents-online-qa-session-104
LOCATION:Virtual Location\, See event details for registration and/or access link.\, Canada
CATEGORIES:Entry Documents,Information,Study Permit
ORGANIZER;CN="International Student Immigration Advisors - Centre for International Experience (CIE)":MAILTO:isa.cie@utoronto.ca
END:VEVENT
BEGIN:VEVENT
DTSTART;TZID=America/Toronto:20260310T173000
DTEND;TZID=America/Toronto:20260310T190000
DTSTAMP:20260420T141413
CREATED:20260212T192116Z
LAST-MODIFIED:20260212T192116Z
UID:8220-1773163800-1773169200@internationalexperience.utoronto.ca
SUMMARY:International Conversation with...Sushma Jobanputra (LLB 1988)
DESCRIPTION:Join us in conversation with U of T alumna Sushma Jobanputra (LLB 1988)\, Partner-in-Charge of Jones Day Singapore whose career spans Toronto\, London\, Paris\, and Singapore. From becoming the youngest graduate in U of T Jackman Law’s history to leading complex banking and finance work across international markets\, often breaking glass ceilings to do so. Sushma brings a global perspective shaped by her experience\, reflection\, and resilience.\n\nIf you’re thinking about how to build a global career\, this conversation is for you. Sushma will share her reflections on navigating change\, rethinking work-life balance and overcoming imposter syndrome\, while inviting you to consider how you can leverage your own background and experiences to forge a successful path in a global context.\n\nDon’t miss out on this speaker series that will help you navigate your student experience\, plans beyond graduation\, and future careers!
URL:https://internationalexperience.utoronto.ca/event/international-conversation-with-sushma-jobanputra-llb-1988
LOCATION:Centre for International Experience\, 33 St George St\, Toronto ON\, Toronto\, Ontario\, M5S 2E3\, Canada
END:VEVENT
END:VCALENDAR