BEGIN:VCALENDAR
VERSION:2.0
PRODID:-//Centre for International Experience - ECPv6.15.12.2//NONSGML v1.0//EN
CALSCALE:GREGORIAN
METHOD:PUBLISH
X-WR-CALNAME:Centre for International Experience
X-ORIGINAL-URL:https://internationalexperience.utoronto.ca
X-WR-CALDESC:Events for Centre for International Experience
REFRESH-INTERVAL;VALUE=DURATION:PT1H
X-Robots-Tag:noindex
X-PUBLISHED-TTL:PT1H
BEGIN:VTIMEZONE
TZID:America/Toronto
BEGIN:DAYLIGHT
TZOFFSETFROM:-0500
TZOFFSETTO:-0400
TZNAME:EDT
DTSTART:20240310T070000
END:DAYLIGHT
BEGIN:STANDARD
TZOFFSETFROM:-0400
TZOFFSETTO:-0500
TZNAME:EST
DTSTART:20241103T060000
END:STANDARD
BEGIN:DAYLIGHT
TZOFFSETFROM:-0500
TZOFFSETTO:-0400
TZNAME:EDT
DTSTART:20250309T070000
END:DAYLIGHT
BEGIN:STANDARD
TZOFFSETFROM:-0400
TZOFFSETTO:-0500
TZNAME:EST
DTSTART:20251102T060000
END:STANDARD
BEGIN:DAYLIGHT
TZOFFSETFROM:-0500
TZOFFSETTO:-0400
TZNAME:EDT
DTSTART:20260308T070000
END:DAYLIGHT
BEGIN:STANDARD
TZOFFSETFROM:-0400
TZOFFSETTO:-0500
TZNAME:EST
DTSTART:20261101T060000
END:STANDARD
END:VTIMEZONE
BEGIN:VEVENT
DTSTART;TZID=America/Toronto:20250501T100000
DTEND;TZID=America/Toronto:20250501T110000
DTSTAMP:20260421T055231
CREATED:20241217T184430Z
LAST-MODIFIED:20250422T194036Z
UID:6788-1746093600-1746097200@internationalexperience.utoronto.ca
SUMMARY:Working in Canada and Entry Documents: Online Q&A Session
DESCRIPTION:Are you an international student who would like to work in Canada? Do you have questions about your legal authorization to work? We have the answers! \n(To pre-register for this Q&A session\, click the ‘Website’ link below. Your Folio booking confirmation message will include the Zoom session link.)
URL:https://internationalexperience.utoronto.ca/event/working-in-canada-and-entry-documents-online-qa-session-63
LOCATION:Virtual Location\, See event details for registration and/or access link.\, Canada
CATEGORIES:Entry Documents,Information,working in canada
ORGANIZER;CN="International Student Immigration Advisors - Centre for International Experience (CIE)":MAILTO:isa.cie@utoronto.ca
END:VEVENT
BEGIN:VEVENT
DTSTART;TZID=America/Toronto:20250505T100000
DTEND;TZID=America/Toronto:20250505T110000
DTSTAMP:20260421T055231
CREATED:20250326T184606Z
LAST-MODIFIED:20250422T194303Z
UID:7071-1746439200-1746442800@internationalexperience.utoronto.ca
SUMMARY:Study Permits and Entry Documents: Online Q&A Session
DESCRIPTION:This Question and Answer (Q&A) session will cover how to apply for a study permit from outside Canada\, how to apply to extend a study permit from inside Canada\, and how to get an “entry visa” (TRV) or electronic travel authorization (eTA). Your questions will guide this session. \n(To pre-register for this Q&A session\, click the ‘Website’ link below. Your Folio booking confirmation message will include the Zoom session link.)
URL:https://internationalexperience.utoronto.ca/event/study-permits-and-entry-documents-online-qa-session-63
LOCATION:Virtual Location\, See event details for registration and/or access link.\, Canada
CATEGORIES:Entry Documents,Information,Study Permit
ORGANIZER;CN="International Student Immigration Advisors - Centre for International Experience (CIE)":MAILTO:isa.cie@utoronto.ca
END:VEVENT
BEGIN:VEVENT
DTSTART;TZID=America/Toronto:20250508T140000
DTEND;TZID=America/Toronto:20250508T150000
DTSTAMP:20260421T055231
CREATED:20250325T174533Z
LAST-MODIFIED:20250422T194317Z
UID:7050-1746712800-1746716400@internationalexperience.utoronto.ca
SUMMARY:Working in Canada and Entry Documents: Online Q&A Session
DESCRIPTION:Are you an international student who would like to work in Canada? Do you have questions about your legal authorization to work? We have the answers! \n(To pre-register for this Q&A session\, click the ‘Website’ link below. Your Folio booking confirmation message will include the Zoom session link.)
URL:https://internationalexperience.utoronto.ca/event/working-in-canada-and-entry-documents-online-qa-session-64
LOCATION:Virtual Location\, See event details for registration and/or access link.\, Canada
CATEGORIES:Entry Documents,Information,working in canada
ORGANIZER;CN="International Student Immigration Advisors - Centre for International Experience (CIE)":MAILTO:isa.cie@utoronto.ca
END:VEVENT
BEGIN:VEVENT
DTSTART;TZID=America/Toronto:20250509T100000
DTEND;TZID=America/Toronto:20250509T110000
DTSTAMP:20260421T055231
CREATED:20250429T195420Z
LAST-MODIFIED:20250429T195420Z
UID:7227-1746784800-1746788400@internationalexperience.utoronto.ca
SUMMARY:New Students: Study Permits Q & A
DESCRIPTION:This Question and Answer (Q&A) session is intended for new students to learn how to apply for a Canadian study permit. Your questions will guide content of this session. \n(To pre-register for this Q&A session\, click the ‘Website’ link below. Your Folio booking confirmation message will include the Zoom session link.) \nThis will be a group session with other students. If you have questions of a confidential nature that require privacy\, please book a one-on-one appointment with one of the CIE immigration advisors (ISIAs). \nFor more information: \nConsult the Immigration Advising webpage at: uoft.me/immigration
URL:https://internationalexperience.utoronto.ca/event/new-students-study-permits-q-a
LOCATION:Virtual Location\, See event details for registration and/or access link.\, Canada
CATEGORIES:Information,Study Permit
ORGANIZER;CN="International Student Immigration Advisors - Centre for International Experience (CIE)":MAILTO:isa.cie@utoronto.ca
END:VEVENT
BEGIN:VEVENT
DTSTART;TZID=America/Toronto:20250512T110000
DTEND;TZID=America/Toronto:20250512T120000
DTSTAMP:20260421T055231
CREATED:20250429T200900Z
LAST-MODIFIED:20250429T200900Z
UID:7228-1747047600-1747051200@internationalexperience.utoronto.ca
SUMMARY:New Students: Study Permits Q&A
DESCRIPTION:This Question and Answer (Q&A) session is intended for new students to learn how to apply for a Canadian study permit. Your questions will guide content of this session. \n(To pre-register for this Q&A session\, click the ‘Website’ link below. Your Folio booking confirmation message will include the Zoom session link.) \nThis will be a group session with other students. If you have questions of a confidential nature that require privacy\, please book a one-on-one appointment with one of the CIE immigration advisors (ISIAs). \nFor more information: \nConsult the Immigration Advising webpage at: uoft.me/immigration
URL:https://internationalexperience.utoronto.ca/event/new-students-study-permits-qa
LOCATION:Virtual Location\, See event details for registration and/or access link.\, Canada
CATEGORIES:Information,Study Permit
ORGANIZER;CN="International Student Immigration Advisors - Centre for International Experience (CIE)":MAILTO:isa.cie@utoronto.ca
END:VEVENT
BEGIN:VEVENT
DTSTART;TZID=America/Toronto:20250513T100000
DTEND;TZID=America/Toronto:20250513T110000
DTSTAMP:20260421T055231
CREATED:20250325T174819Z
LAST-MODIFIED:20250422T194339Z
UID:7051-1747130400-1747134000@internationalexperience.utoronto.ca
SUMMARY:Working in Canada and Entry Documents: Online Q&A Session
DESCRIPTION:Are you an international student who would like to work in Canada? Do you have questions about your legal authorization to work? We have the answers! \n(To pre-register for this Q&A session\, click the ‘Website’ link below. Your Folio booking confirmation message will include the Zoom session link.)
URL:https://internationalexperience.utoronto.ca/event/working-in-canada-and-entry-documents-online-qa-session-65
LOCATION:Virtual Location\, See event details for registration and/or access link.\, Canada
CATEGORIES:Entry Documents,Information,working in canada
ORGANIZER;CN="International Student Immigration Advisors - Centre for International Experience (CIE)":MAILTO:isa.cie@utoronto.ca
END:VEVENT
BEGIN:VEVENT
DTSTART;TZID=America/Toronto:20250514T140000
DTEND;TZID=America/Toronto:20250514T150000
DTSTAMP:20260421T055231
CREATED:20250326T184717Z
LAST-MODIFIED:20250422T194410Z
UID:7072-1747231200-1747234800@internationalexperience.utoronto.ca
SUMMARY:Study Permits and Entry Documents: Online Q&A Session
DESCRIPTION:This Question and Answer (Q&A) session will cover how to apply for a study permit from outside Canada\, how to apply to extend a study permit from inside Canada\, and how to get an “entry visa” (TRV) or electronic travel authorization (eTA). Your questions will guide this session. \n(To pre-register for this Q&A session\, click the ‘Website’ link below. Your Folio booking confirmation message will include the Zoom session link.)
URL:https://internationalexperience.utoronto.ca/event/study-permits-and-entry-documents-online-qa-session-64
LOCATION:Virtual Location\, See event details for registration and/or access link.\, Canada
CATEGORIES:Entry Documents,Information,Study Permit
ORGANIZER;CN="International Student Immigration Advisors - Centre for International Experience (CIE)":MAILTO:isa.cie@utoronto.ca
END:VEVENT
BEGIN:VEVENT
DTSTART;TZID=America/Toronto:20250520T140000
DTEND;TZID=America/Toronto:20250520T150000
DTSTAMP:20260421T055231
CREATED:20250326T184829Z
LAST-MODIFIED:20250514T172901Z
UID:7073-1747749600-1747753200@internationalexperience.utoronto.ca
SUMMARY:Study Permits and Entry Documents: Online Q&A Session
DESCRIPTION:This live online Question and Answer (Q&A) session will be hosted by one of CIE’s immigration advisors. Come ask your questions directly! \nThe session will cover these topics: \n\nhow to apply for a study permit from outside Canada\nhow to apply to extend a study permit from inside Canada\nhow to get an “entry visa” (TRV) or electronic travel authorization (eTA)\n\nYour questions will guide the discussion. \n(To pre-register for this Q&A session\, click the ‘Website’ link below. Your Folio booking confirmation message will include the Zoom session link.)
URL:https://internationalexperience.utoronto.ca/event/study-permits-and-entry-documents-online-qa-session-65
LOCATION:Virtual Location\, See event details for registration and/or access link.\, Canada
CATEGORIES:Entry Documents,Information,Study Permit
ORGANIZER;CN="International Student Immigration Advisors - Centre for International Experience (CIE)":MAILTO:isa.cie@utoronto.ca
END:VEVENT
BEGIN:VEVENT
DTSTART;TZID=America/Toronto:20250521T100000
DTEND;TZID=America/Toronto:20250521T110000
DTSTAMP:20260421T055231
CREATED:20250325T174958Z
LAST-MODIFIED:20250514T174251Z
UID:7052-1747821600-1747825200@internationalexperience.utoronto.ca
SUMMARY:Working in Canada and Entry Documents: Online Q&A Session
DESCRIPTION:Are you an international student who would like to work in Canada? Do you have questions about your legal authorization to work? We have the answers! \nThis live online Question and Answer (Q&A) session will be hosted by one of CIE’s immigration advisors. Come ask your questions directly! \nYour questions will guide the discussion. \n(To pre-register for this Q&A session\, click the ‘Website’ link below. Your Folio booking confirmation message will include the Zoom session link.)
URL:https://internationalexperience.utoronto.ca/event/working-in-canada-and-entry-documents-online-qa-session-66
LOCATION:Virtual Location\, See event details for registration and/or access link.\, Canada
CATEGORIES:Entry Documents,Information,working in canada
ORGANIZER;CN="International Student Immigration Advisors - Centre for International Experience (CIE)":MAILTO:isa.cie@utoronto.ca
END:VEVENT
BEGIN:VEVENT
DTSTART;TZID=America/Toronto:20250522T130000
DTEND;TZID=America/Toronto:20250522T140000
DTSTAMP:20260421T055231
CREATED:20250429T201009Z
LAST-MODIFIED:20250514T175622Z
UID:7229-1747918800-1747922400@internationalexperience.utoronto.ca
SUMMARY:New Students: Study Permits Q&A
DESCRIPTION:This live online Question and Answer (Q&A) session is intended for new students to learn how to apply for a Canadian study permit. The session will be hosted by one of CIE’s immigration advisors\, and your questions will guide the content of the discussion. \n(To pre-register for this Q&A session\, click the ‘Website’ link below. Your Folio booking confirmation message will include the Zoom session link.) \nThis will be a group meeting with other students. If you have questions of a confidential nature that require privacy\, please book a one-on-one appointment with one of the CIE immigration advisors (ISIAs). \nFor more information\, please consult the CIE Immigration Advising webpage: uoft.me/immigration
URL:https://internationalexperience.utoronto.ca/event/new-students-study-permits-qa-2
LOCATION:Virtual Location\, See event details for registration and/or access link.\, Canada
CATEGORIES:Information,Study Permit
ORGANIZER;CN="International Student Immigration Advisors - Centre for International Experience (CIE)":MAILTO:isa.cie@utoronto.ca
END:VEVENT
BEGIN:VEVENT
DTSTART;TZID=America/Toronto:20250527T100000
DTEND;TZID=America/Toronto:20250527T110000
DTSTAMP:20260421T055231
CREATED:20250326T184931Z
LAST-MODIFIED:20250514T173017Z
UID:7074-1748340000-1748343600@internationalexperience.utoronto.ca
SUMMARY:Study Permits and Entry Documents: Online Q&A Session
DESCRIPTION:This live online Question and Answer (Q&A) session will be hosted by one of CIE’s immigration advisors. Come ask your questions directly! \nThe session will cover these topics: \n\nhow to apply for a study permit from outside Canada\nhow to apply to extend a study permit from inside Canada\nhow to get an “entry visa” (TRV) or electronic travel authorization (eTA)\n\nYour questions will guide the discussion. \n(To pre-register for this Q&A session\, click the ‘Website’ link below. Your Folio booking confirmation message will include the Zoom session link.)
URL:https://internationalexperience.utoronto.ca/event/study-permits-and-entry-documents-online-qa-session-66
LOCATION:Virtual Location\, See event details for registration and/or access link.\, Canada
CATEGORIES:Entry Documents,Information,Study Permit
ORGANIZER;CN="International Student Immigration Advisors - Centre for International Experience (CIE)":MAILTO:isa.cie@utoronto.ca
END:VEVENT
BEGIN:VEVENT
DTSTART;TZID=America/Toronto:20250528T140000
DTEND;TZID=America/Toronto:20250528T150000
DTSTAMP:20260421T055231
CREATED:20250429T201135Z
LAST-MODIFIED:20250514T175738Z
UID:7230-1748440800-1748444400@internationalexperience.utoronto.ca
SUMMARY:New Students: Study Permits Q&A
DESCRIPTION:This live online Question and Answer (Q&A) session is intended for new students to learn how to apply for a Canadian study permit. The session will be hosted by one of CIE’s immigration advisors\, and your questions will guide the content of the discussion. \n(To pre-register for this Q&A session\, click the ‘Website’ link below. Your Folio booking confirmation message will include the Zoom session link.) \nThis will be a group meeting with other students. If you have questions of a confidential nature that require privacy\, please book a one-on-one appointment with one of the CIE immigration advisors (ISIAs). \nFor more information\, please consult the CIE Immigration Advising webpage: uoft.me/immigration
URL:https://internationalexperience.utoronto.ca/event/new-students-study-permits-qa-3
LOCATION:Virtual Location\, See event details for registration and/or access link.\, Canada
CATEGORIES:Information,Study Permit
ORGANIZER;CN="International Student Immigration Advisors - Centre for International Experience (CIE)":MAILTO:isa.cie@utoronto.ca
END:VEVENT
BEGIN:VEVENT
DTSTART;TZID=America/Toronto:20250529T140000
DTEND;TZID=America/Toronto:20250529T150000
DTSTAMP:20260421T055231
CREATED:20250325T175137Z
LAST-MODIFIED:20250514T174619Z
UID:7054-1748527200-1748530800@internationalexperience.utoronto.ca
SUMMARY:Working in Canada and Entry Documents: Online Q&A Session
DESCRIPTION:Are you an international student who would like to work in Canada? Do you have questions about your legal authorization to work? We have the answers! \nThis live online Question and Answer (Q&A) session will be hosted by one of CIE’s immigration advisors. Come ask your questions directly! \nYour questions will guide the discussion. \n(To pre-register for this Q&A session\, click the ‘Website’ link below. Your Folio booking confirmation message will include the Zoom session link.)
URL:https://internationalexperience.utoronto.ca/event/working-in-canada-and-entry-documents-online-qa-session-67
LOCATION:Virtual Location\, See event details for registration and/or access link.\, Canada
CATEGORIES:Entry Documents,Information,working in canada
ORGANIZER;CN="International Student Immigration Advisors - Centre for International Experience (CIE)":MAILTO:isa.cie@utoronto.ca
END:VEVENT
END:VCALENDAR