BEGIN:VCALENDAR
VERSION:2.0
PRODID:-//Centre for International Experience - ECPv6.15.12.2//NONSGML v1.0//EN
CALSCALE:GREGORIAN
METHOD:PUBLISH
X-ORIGINAL-URL:https://internationalexperience.utoronto.ca
X-WR-CALDESC:Events for Centre for International Experience
REFRESH-INTERVAL;VALUE=DURATION:PT1H
X-Robots-Tag:noindex
X-PUBLISHED-TTL:PT1H
BEGIN:VTIMEZONE
TZID:America/Toronto
BEGIN:DAYLIGHT
TZOFFSETFROM:-0500
TZOFFSETTO:-0400
TZNAME:EDT
DTSTART:20240310T070000
END:DAYLIGHT
BEGIN:STANDARD
TZOFFSETFROM:-0400
TZOFFSETTO:-0500
TZNAME:EST
DTSTART:20241103T060000
END:STANDARD
BEGIN:DAYLIGHT
TZOFFSETFROM:-0500
TZOFFSETTO:-0400
TZNAME:EDT
DTSTART:20250309T070000
END:DAYLIGHT
BEGIN:STANDARD
TZOFFSETFROM:-0400
TZOFFSETTO:-0500
TZNAME:EST
DTSTART:20251102T060000
END:STANDARD
BEGIN:DAYLIGHT
TZOFFSETFROM:-0500
TZOFFSETTO:-0400
TZNAME:EDT
DTSTART:20260308T070000
END:DAYLIGHT
BEGIN:STANDARD
TZOFFSETFROM:-0400
TZOFFSETTO:-0500
TZNAME:EST
DTSTART:20261101T060000
END:STANDARD
END:VTIMEZONE
BEGIN:VEVENT
DTSTART;TZID=America/Toronto:20251105T140000
DTEND;TZID=America/Toronto:20251105T150000
DTSTAMP:20260423T014601
CREATED:20250908T211844Z
LAST-MODIFIED:20250908T211844Z
UID:7607-1762351200-1762354800@internationalexperience.utoronto.ca
SUMMARY:Study Permits and Entry Documents: Online Q&A Session
DESCRIPTION:This live online Question and Answer (Q&A) session will be hosted by one of CIE’s immigration advisors. Come ask your questions directly! \nThe session will cover these topics: \n\nhow to apply for a study permit from outside Canada\nhow to apply to extend a study permit from inside Canada\nhow to get an “entry visa” (TRV) or electronic travel authorization (eTA)\n\nYour questions will guide the discussion. \n(To pre-register for this Q&A session\, click the ‘Website’ link below. Your Folio booking confirmation message will include the Zoom session link.)
URL:https://internationalexperience.utoronto.ca/event/study-permits-and-entry-documents-online-qa-session-89
LOCATION:Virtual Location\, See event details for registration and/or access link.\, Canada
CATEGORIES:Entry Documents,Information,Study Permit
ORGANIZER;CN="International Student Immigration Advisors - Centre for International Experience (CIE)":MAILTO:isa.cie@utoronto.ca
END:VEVENT
BEGIN:VEVENT
DTSTART;TZID=America/Toronto:20251107T100000
DTEND;TZID=America/Toronto:20251107T110000
DTSTAMP:20260423T014601
CREATED:20250908T195131Z
LAST-MODIFIED:20250908T195131Z
UID:7595-1762509600-1762513200@internationalexperience.utoronto.ca
SUMMARY:Working in Canada and Entry Documents: Online Q&A Session
DESCRIPTION:Are you an international student who would like to work in Canada? Do you have questions about your legal authorization to work? We have the answers! \nThis live online Question and Answer (Q&A) session will be hosted by one of CIE’s immigration advisors. Come ask your questions directly! \nYour questions will guide the discussion. \n(To pre-register for this Q&A session\, click the ‘Website’ link below. Your Folio booking confirmation message will include the Zoom session link.)
URL:https://internationalexperience.utoronto.ca/event/working-in-canada-and-entry-documents-online-qa-session-89
LOCATION:Virtual Location\, See event details for registration and/or access link.\, Canada
CATEGORIES:Entry Documents,Information,working in canada
ORGANIZER;CN="International Student Immigration Advisors - Centre for International Experience (CIE)":MAILTO:isa.cie@utoronto.ca
END:VEVENT
BEGIN:VEVENT
DTSTART;TZID=America/Toronto:20251111T100000
DTEND;TZID=America/Toronto:20251111T110000
DTSTAMP:20260423T014601
CREATED:20250908T211954Z
LAST-MODIFIED:20250908T211954Z
UID:7608-1762855200-1762858800@internationalexperience.utoronto.ca
SUMMARY:Study Permits and Entry Documents: Online Q&A Session
DESCRIPTION:This live online Question and Answer (Q&A) session will be hosted by one of CIE’s immigration advisors. Come ask your questions directly! \nThe session will cover these topics: \n\nhow to apply for a study permit from outside Canada\nhow to apply to extend a study permit from inside Canada\nhow to get an “entry visa” (TRV) or electronic travel authorization (eTA)\n\nYour questions will guide the discussion. \n(To pre-register for this Q&A session\, click the ‘Website’ link below. Your Folio booking confirmation message will include the Zoom session link.)
URL:https://internationalexperience.utoronto.ca/event/study-permits-and-entry-documents-online-qa-session-90
LOCATION:Virtual Location\, See event details for registration and/or access link.\, Canada
CATEGORIES:Entry Documents,Information,Study Permit
ORGANIZER;CN="International Student Immigration Advisors - Centre for International Experience (CIE)":MAILTO:isa.cie@utoronto.ca
END:VEVENT
BEGIN:VEVENT
DTSTART;TZID=America/Toronto:20251113T140000
DTEND;TZID=America/Toronto:20251113T150000
DTSTAMP:20260423T014601
CREATED:20250908T195255Z
LAST-MODIFIED:20250908T195255Z
UID:7596-1763042400-1763046000@internationalexperience.utoronto.ca
SUMMARY:Working in Canada and Entry Documents: Online Q&A Session
DESCRIPTION:Are you an international student who would like to work in Canada? Do you have questions about your legal authorization to work? We have the answers! \nThis live online Question and Answer (Q&A) session will be hosted by one of CIE’s immigration advisors. Come ask your questions directly! \nYour questions will guide the discussion. \n(To pre-register for this Q&A session\, click the ‘Website’ link below. Your Folio booking confirmation message will include the Zoom session link.)
URL:https://internationalexperience.utoronto.ca/event/working-in-canada-and-entry-documents-online-qa-session-90
LOCATION:Virtual Location\, See event details for registration and/or access link.\, Canada
CATEGORIES:Entry Documents,Information,working in canada
ORGANIZER;CN="International Student Immigration Advisors - Centre for International Experience (CIE)":MAILTO:isa.cie@utoronto.ca
END:VEVENT
BEGIN:VEVENT
DTSTART;TZID=America/Toronto:20251119T140000
DTEND;TZID=America/Toronto:20251119T150000
DTSTAMP:20260423T014601
CREATED:20250908T212118Z
LAST-MODIFIED:20250908T212118Z
UID:7609-1763560800-1763564400@internationalexperience.utoronto.ca
SUMMARY:Study Permits and Entry Documents: Online Q&A Session
DESCRIPTION:This live online Question and Answer (Q&A) session will be hosted by one of CIE’s immigration advisors. Come ask your questions directly! \nThe session will cover these topics: \n\nhow to apply for a study permit from outside Canada\nhow to apply to extend a study permit from inside Canada\nhow to get an “entry visa” (TRV) or electronic travel authorization (eTA)\n\nYour questions will guide the discussion. \n(To pre-register for this Q&A session\, click the ‘Website’ link below. Your Folio booking confirmation message will include the Zoom session link.)
URL:https://internationalexperience.utoronto.ca/event/study-permits-and-entry-documents-online-qa-session-91
LOCATION:Virtual Location\, See event details for registration and/or access link.\, Canada
CATEGORIES:Entry Documents,Information,Study Permit
ORGANIZER;CN="International Student Immigration Advisors - Centre for International Experience (CIE)":MAILTO:isa.cie@utoronto.ca
END:VEVENT
BEGIN:VEVENT
DTSTART;TZID=America/Toronto:20251121T100000
DTEND;TZID=America/Toronto:20251121T110000
DTSTAMP:20260423T014601
CREATED:20250908T195442Z
LAST-MODIFIED:20250908T195442Z
UID:7597-1763719200-1763722800@internationalexperience.utoronto.ca
SUMMARY:Working in Canada and Entry Documents: Online Q&A Session
DESCRIPTION:Are you an international student who would like to work in Canada? Do you have questions about your legal authorization to work? We have the answers! \nThis live online Question and Answer (Q&A) session will be hosted by one of CIE’s immigration advisors. Come ask your questions directly! \nYour questions will guide the discussion. \n(To pre-register for this Q&A session\, click the ‘Website’ link below. Your Folio booking confirmation message will include the Zoom session link.)
URL:https://internationalexperience.utoronto.ca/event/working-in-canada-and-entry-documents-online-qa-session-91
LOCATION:Virtual Location\, See event details for registration and/or access link.\, Canada
CATEGORIES:Entry Documents,Information,working in canada
ORGANIZER;CN="International Student Immigration Advisors - Centre for International Experience (CIE)":MAILTO:isa.cie@utoronto.ca
END:VEVENT
BEGIN:VEVENT
DTSTART;TZID=America/Toronto:20251125T140000
DTEND;TZID=America/Toronto:20251125T150000
DTSTAMP:20260423T014601
CREATED:20250908T195611Z
LAST-MODIFIED:20250908T195611Z
UID:7598-1764079200-1764082800@internationalexperience.utoronto.ca
SUMMARY:Working in Canada and Entry Documents: Online Q&A Session
DESCRIPTION:Are you an international student who would like to work in Canada? Do you have questions about your legal authorization to work? We have the answers! \nThis live online Question and Answer (Q&A) session will be hosted by one of CIE’s immigration advisors. Come ask your questions directly! \nYour questions will guide the discussion. \n(To pre-register for this Q&A session\, click the ‘Website’ link below. Your Folio booking confirmation message will include the Zoom session link.)
URL:https://internationalexperience.utoronto.ca/event/working-in-canada-and-entry-documents-online-qa-session-92
LOCATION:Virtual Location\, See event details for registration and/or access link.\, Canada
CATEGORIES:Entry Documents,Information,working in canada
ORGANIZER;CN="International Student Immigration Advisors - Centre for International Experience (CIE)":MAILTO:isa.cie@utoronto.ca
END:VEVENT
BEGIN:VEVENT
DTSTART;TZID=America/Toronto:20251127T100000
DTEND;TZID=America/Toronto:20251127T110000
DTSTAMP:20260423T014601
CREATED:20250908T212251Z
LAST-MODIFIED:20250908T212251Z
UID:7610-1764237600-1764241200@internationalexperience.utoronto.ca
SUMMARY:Study Permits and Entry Documents: Online Q&A Session
DESCRIPTION:This live online Question and Answer (Q&A) session will be hosted by one of CIE’s immigration advisors. Come ask your questions directly! \nThe session will cover these topics: \n\nhow to apply for a study permit from outside Canada\nhow to apply to extend a study permit from inside Canada\nhow to get an “entry visa” (TRV) or electronic travel authorization (eTA)\n\nYour questions will guide the discussion. \n(To pre-register for this Q&A session\, click the ‘Website’ link below. Your Folio booking confirmation message will include the Zoom session link.)
URL:https://internationalexperience.utoronto.ca/event/study-permits-and-entry-documents-online-qa-session-92
LOCATION:Virtual Location\, See event details for registration and/or access link.\, Canada
CATEGORIES:Entry Documents,Information,Study Permit
ORGANIZER;CN="International Student Immigration Advisors - Centre for International Experience (CIE)":MAILTO:isa.cie@utoronto.ca
END:VEVENT
END:VCALENDAR