BEGIN:VCALENDAR
VERSION:2.0
PRODID:-//Centre for International Experience - ECPv6.15.12.2//NONSGML v1.0//EN
CALSCALE:GREGORIAN
METHOD:PUBLISH
X-WR-CALNAME:Centre for International Experience
X-ORIGINAL-URL:https://internationalexperience.utoronto.ca
X-WR-CALDESC:Events for Centre for International Experience
REFRESH-INTERVAL;VALUE=DURATION:PT1H
X-Robots-Tag:noindex
X-PUBLISHED-TTL:PT1H
BEGIN:VTIMEZONE
TZID:America/Toronto
BEGIN:DAYLIGHT
TZOFFSETFROM:-0500
TZOFFSETTO:-0400
TZNAME:EDT
DTSTART:20230312T070000
END:DAYLIGHT
BEGIN:STANDARD
TZOFFSETFROM:-0400
TZOFFSETTO:-0500
TZNAME:EST
DTSTART:20231105T060000
END:STANDARD
BEGIN:DAYLIGHT
TZOFFSETFROM:-0500
TZOFFSETTO:-0400
TZNAME:EDT
DTSTART:20240310T070000
END:DAYLIGHT
BEGIN:STANDARD
TZOFFSETFROM:-0400
TZOFFSETTO:-0500
TZNAME:EST
DTSTART:20241103T060000
END:STANDARD
BEGIN:DAYLIGHT
TZOFFSETFROM:-0500
TZOFFSETTO:-0400
TZNAME:EDT
DTSTART:20250309T070000
END:DAYLIGHT
BEGIN:STANDARD
TZOFFSETFROM:-0400
TZOFFSETTO:-0500
TZNAME:EST
DTSTART:20251102T060000
END:STANDARD
END:VTIMEZONE
BEGIN:VEVENT
DTSTART;TZID=America/Toronto:20240305T140000
DTEND;TZID=America/Toronto:20240305T150000
DTSTAMP:20260420T134950
CREATED:20240126T151739Z
LAST-MODIFIED:20240126T151739Z
UID:5747-1709647200-1709650800@internationalexperience.utoronto.ca
SUMMARY:Study Permits and Entry Documents: Online Q&A Session
DESCRIPTION:This Question and Answer (Q&A) session will cover how to apply for a study permit from outside Canada\, how to apply to extend a study permit from inside Canada\, and how to get an “entry visa” (TRV) or electronic travel authorization (eTA). Your questions will guide this session.
URL:https://internationalexperience.utoronto.ca/event/study-permits-and-entry-documents-online-qa-session-5
LOCATION:Virtual Location\, See event details for registration and/or access link.\, Canada
CATEGORIES:Entry Documents,Information,Study Permit
ORGANIZER;CN="International Student Immigration Advisors - Centre for International Experience (CIE)":MAILTO:isa.cie@utoronto.ca
END:VEVENT
BEGIN:VEVENT
DTSTART;TZID=America/Toronto:20240306T100000
DTEND;TZID=America/Toronto:20240306T110000
DTSTAMP:20260420T134950
CREATED:20240126T190644Z
LAST-MODIFIED:20240126T190644Z
UID:5759-1709719200-1709722800@internationalexperience.utoronto.ca
SUMMARY:Working in Canada and Entry Documents: Online Q&A Session
DESCRIPTION:Are you an international student who would like to work in Canada? Do you have questions about your legal authorization to work? We have the answers!
URL:https://internationalexperience.utoronto.ca/event/working-in-canada-and-entry-documents-online-qa-session-6
LOCATION:Virtual Location\, See event details for registration and/or access link.\, Canada
CATEGORIES:Entry Documents,Information,working in canada
ORGANIZER;CN="International Student Immigration Advisors - Centre for International Experience (CIE)":MAILTO:isa.cie@utoronto.ca
END:VEVENT
BEGIN:VEVENT
DTSTART;TZID=America/Toronto:20240312T090000
DTEND;TZID=America/Toronto:20240312T100000
DTSTAMP:20260420T134950
CREATED:20240126T193034Z
LAST-MODIFIED:20240202T144119Z
UID:5775-1710234000-1710237600@internationalexperience.utoronto.ca
SUMMARY:Study Permits and Entry Documents: Online Q&A Session
DESCRIPTION:This Question and Answer (Q&A) session will cover how to apply for a study permit from outside Canada\, how to apply to extend a study permit from inside Canada\, and how to get an “entry visa” (TRV) or electronic travel authorization (eTA). Your questions will guide this session.
URL:https://internationalexperience.utoronto.ca/event/study-permits-and-entry-documents-online-qa-session-13
LOCATION:Virtual Location\, See event details for registration and/or access link.\, Canada
CATEGORIES:Entry Documents,Information,Study Permit
ORGANIZER;CN="International Student Immigration Advisors - Centre for International Experience (CIE)":MAILTO:isa.cie@utoronto.ca
END:VEVENT
BEGIN:VEVENT
DTSTART;TZID=America/Toronto:20240314T140000
DTEND;TZID=America/Toronto:20240314T150000
DTSTAMP:20260420T134950
CREATED:20240126T191001Z
LAST-MODIFIED:20240126T191001Z
UID:5760-1710424800-1710428400@internationalexperience.utoronto.ca
SUMMARY:Working in Canada and Entry Documents: Online Q&A Session
DESCRIPTION:Are you an international student who would like to work in Canada? Do you have questions about your legal authorization to work? We have the answers!
URL:https://internationalexperience.utoronto.ca/event/working-in-canada-and-entry-documents-online-qa-session-7
LOCATION:Virtual Location\, See event details for registration and/or access link.\, Canada
CATEGORIES:Entry Documents,Information,working in canada
ORGANIZER;CN="International Student Immigration Advisors - Centre for International Experience (CIE)":MAILTO:isa.cie@utoronto.ca
END:VEVENT
BEGIN:VEVENT
DTSTART;TZID=America/Toronto:20240319T140000
DTEND;TZID=America/Toronto:20240319T150000
DTSTAMP:20260420T134950
CREATED:20240126T192930Z
LAST-MODIFIED:20240126T192930Z
UID:5774-1710856800-1710860400@internationalexperience.utoronto.ca
SUMMARY:Study Permits and Entry Documents: Online Q&A Session
DESCRIPTION:This Question and Answer (Q&A) session will cover how to apply for a study permit from outside Canada\, how to apply to extend a study permit from inside Canada\, and how to get an “entry visa” (TRV) or electronic travel authorization (eTA). Your questions will guide this session.
URL:https://internationalexperience.utoronto.ca/event/study-permits-and-entry-documents-online-qa-session-12
LOCATION:Virtual Location\, See event details for registration and/or access link.\, Canada
CATEGORIES:Entry Documents,Information,Study Permit
ORGANIZER;CN="International Student Immigration Advisors - Centre for International Experience (CIE)":MAILTO:isa.cie@utoronto.ca
END:VEVENT
BEGIN:VEVENT
DTSTART;TZID=America/Toronto:20240320T100000
DTEND;TZID=America/Toronto:20240320T110000
DTSTAMP:20260420T134950
CREATED:20240126T191109Z
LAST-MODIFIED:20240126T191109Z
UID:5761-1710928800-1710932400@internationalexperience.utoronto.ca
SUMMARY:Working in Canada and Entry Documents: Online Q&A Session
DESCRIPTION:Are you an international student who would like to work in Canada? Do you have questions about your legal authorization to work? We have the answers!
URL:https://internationalexperience.utoronto.ca/event/working-in-canada-and-entry-documents-online-qa-session-8
LOCATION:Virtual Location\, See event details for registration and/or access link.\, Canada
CATEGORIES:Entry Documents,Information,working in canada
ORGANIZER;CN="International Student Immigration Advisors - Centre for International Experience (CIE)":MAILTO:isa.cie@utoronto.ca
END:VEVENT
BEGIN:VEVENT
DTSTART;TZID=America/Toronto:20240326T090000
DTEND;TZID=America/Toronto:20240326T100000
DTSTAMP:20260420T134950
CREATED:20240126T192818Z
LAST-MODIFIED:20240202T143909Z
UID:5773-1711443600-1711447200@internationalexperience.utoronto.ca
SUMMARY:Study Permits and Entry Documents: Online Q&A Session
DESCRIPTION:This Question and Answer (Q&A) session will cover how to apply for a study permit from outside Canada\, how to apply to extend a study permit from inside Canada\, and how to get an “entry visa” (TRV) or electronic travel authorization (eTA). Your questions will guide this session.
URL:https://internationalexperience.utoronto.ca/event/study-permits-and-entry-documents-online-qa-session-11
LOCATION:Virtual Location\, See event details for registration and/or access link.\, Canada
CATEGORIES:Entry Documents,Information,Study Permit
ORGANIZER;CN="International Student Immigration Advisors - Centre for International Experience (CIE)":MAILTO:isa.cie@utoronto.ca
END:VEVENT
BEGIN:VEVENT
DTSTART;TZID=America/Toronto:20240328T140000
DTEND;TZID=America/Toronto:20240328T150000
DTSTAMP:20260420T134950
CREATED:20240126T191224Z
LAST-MODIFIED:20240126T191224Z
UID:5762-1711634400-1711638000@internationalexperience.utoronto.ca
SUMMARY:Working in Canada and Entry Documents: Online Q&A Session
DESCRIPTION:Are you an international student who would like to work in Canada? Do you have questions about your legal authorization to work? We have the answers!
URL:https://internationalexperience.utoronto.ca/event/working-in-canada-and-entry-documents-online-qa-session-9
LOCATION:Virtual Location\, See event details for registration and/or access link.\, Canada
CATEGORIES:Entry Documents,Information,working in canada
ORGANIZER;CN="International Student Immigration Advisors - Centre for International Experience (CIE)":MAILTO:isa.cie@utoronto.ca
END:VEVENT
END:VCALENDAR