BEGIN:VCALENDAR
VERSION:2.0
PRODID:-//Centre for International Experience - ECPv6.15.12.2//NONSGML v1.0//EN
CALSCALE:GREGORIAN
METHOD:PUBLISH
X-ORIGINAL-URL:https://internationalexperience.utoronto.ca
X-WR-CALDESC:Events for Centre for International Experience
REFRESH-INTERVAL;VALUE=DURATION:PT1H
X-Robots-Tag:noindex
X-PUBLISHED-TTL:PT1H
BEGIN:VTIMEZONE
TZID:America/Toronto
BEGIN:DAYLIGHT
TZOFFSETFROM:-0500
TZOFFSETTO:-0400
TZNAME:EDT
DTSTART:20240310T070000
END:DAYLIGHT
BEGIN:STANDARD
TZOFFSETFROM:-0400
TZOFFSETTO:-0500
TZNAME:EST
DTSTART:20241103T060000
END:STANDARD
BEGIN:DAYLIGHT
TZOFFSETFROM:-0500
TZOFFSETTO:-0400
TZNAME:EDT
DTSTART:20250309T070000
END:DAYLIGHT
BEGIN:STANDARD
TZOFFSETFROM:-0400
TZOFFSETTO:-0500
TZNAME:EST
DTSTART:20251102T060000
END:STANDARD
BEGIN:DAYLIGHT
TZOFFSETFROM:-0500
TZOFFSETTO:-0400
TZNAME:EDT
DTSTART:20260308T070000
END:DAYLIGHT
BEGIN:STANDARD
TZOFFSETFROM:-0400
TZOFFSETTO:-0500
TZNAME:EST
DTSTART:20261101T060000
END:STANDARD
END:VTIMEZONE
BEGIN:VEVENT
DTSTART;TZID=America/Toronto:20251002T100000
DTEND;TZID=America/Toronto:20251002T110000
DTSTAMP:20260422T063137
CREATED:20250908T210543Z
LAST-MODIFIED:20250908T210543Z
UID:7602-1759399200-1759402800@internationalexperience.utoronto.ca
SUMMARY:Study Permits and Entry Documents: Online Q&A Session
DESCRIPTION:This live online Question and Answer (Q&A) session will be hosted by one of CIE’s immigration advisors. Come ask your questions directly! \nThe session will cover these topics: \n\nhow to apply for a study permit from outside Canada\nhow to apply to extend a study permit from inside Canada\nhow to get an “entry visa” (TRV) or electronic travel authorization (eTA)\n\nYour questions will guide the discussion. \n(To pre-register for this Q&A session\, click the ‘Website’ link below. Your Folio booking confirmation message will include the Zoom session link.)
URL:https://internationalexperience.utoronto.ca/event/study-permits-and-entry-documents-online-qa-session-84
LOCATION:Virtual Location\, See event details for registration and/or access link.\, Canada
CATEGORIES:Entry Documents,Information,Study Permit
ORGANIZER;CN="International Student Immigration Advisors - Centre for International Experience (CIE)":MAILTO:isa.cie@utoronto.ca
END:VEVENT
BEGIN:VEVENT
DTSTART;TZID=America/Toronto:20251007T100000
DTEND;TZID=America/Toronto:20251007T110000
DTSTAMP:20260422T063137
CREATED:20250908T210719Z
LAST-MODIFIED:20250908T210719Z
UID:7603-1759831200-1759834800@internationalexperience.utoronto.ca
SUMMARY:Study Permits and Entry Documents: Online Q&A Session
DESCRIPTION:This live online Question and Answer (Q&A) session will be hosted by one of CIE’s immigration advisors. Come ask your questions directly! \nThe session will cover these topics: \n\nhow to apply for a study permit from outside Canada\nhow to apply to extend a study permit from inside Canada\nhow to get an “entry visa” (TRV) or electronic travel authorization (eTA)\n\nYour questions will guide the discussion. \n(To pre-register for this Q&A session\, click the ‘Website’ link below. Your Folio booking confirmation message will include the Zoom session link.)
URL:https://internationalexperience.utoronto.ca/event/study-permits-and-entry-documents-online-qa-session-85
LOCATION:Virtual Location\, See event details for registration and/or access link.\, Canada
CATEGORIES:Entry Documents,Information,Study Permit
ORGANIZER;CN="International Student Immigration Advisors - Centre for International Experience (CIE)":MAILTO:isa.cie@utoronto.ca
END:VEVENT
BEGIN:VEVENT
DTSTART;TZID=America/Toronto:20251009T140000
DTEND;TZID=America/Toronto:20251009T150000
DTSTAMP:20260422T063137
CREATED:20250908T194226Z
LAST-MODIFIED:20250908T194226Z
UID:7591-1760018400-1760022000@internationalexperience.utoronto.ca
SUMMARY:Working in Canada and Entry Documents: Online Q&A Session
DESCRIPTION:Are you an international student who would like to work in Canada? Do you have questions about your legal authorization to work? We have the answers! \nThis live online Question and Answer (Q&A) session will be hosted by one of CIE’s immigration advisors. Come ask your questions directly! \nYour questions will guide the discussion. \n(To pre-register for this Q&A session\, click the ‘Website’ link below. Your Folio booking confirmation message will include the Zoom session link.)
URL:https://internationalexperience.utoronto.ca/event/working-in-canada-and-entry-documents-online-qa-session-85
LOCATION:Virtual Location\, See event details for registration and/or access link.\, Canada
CATEGORIES:Entry Documents,Information,working in canada
ORGANIZER;CN="International Student Immigration Advisors - Centre for International Experience (CIE)":MAILTO:isa.cie@utoronto.ca
END:VEVENT
BEGIN:VEVENT
DTSTART;TZID=America/Toronto:20251014T100000
DTEND;TZID=America/Toronto:20251014T110000
DTSTAMP:20260422T063137
CREATED:20250908T210858Z
LAST-MODIFIED:20250908T210858Z
UID:7604-1760436000-1760439600@internationalexperience.utoronto.ca
SUMMARY:Study Permits and Entry Documents: Online Q&A Session
DESCRIPTION:This live online Question and Answer (Q&A) session will be hosted by one of CIE’s immigration advisors. Come ask your questions directly! \nThe session will cover these topics: \n\nhow to apply for a study permit from outside Canada\nhow to apply to extend a study permit from inside Canada\nhow to get an “entry visa” (TRV) or electronic travel authorization (eTA)\n\nYour questions will guide the discussion. \n(To pre-register for this Q&A session\, click the ‘Website’ link below. Your Folio booking confirmation message will include the Zoom session link.)
URL:https://internationalexperience.utoronto.ca/event/study-permits-and-entry-documents-online-qa-session-86
LOCATION:Virtual Location\, See event details for registration and/or access link.\, Canada
CATEGORIES:Entry Documents,Information,Study Permit
ORGANIZER;CN="International Student Immigration Advisors - Centre for International Experience (CIE)":MAILTO:isa.cie@utoronto.ca
END:VEVENT
BEGIN:VEVENT
DTSTART;TZID=America/Toronto:20251015T140000
DTEND;TZID=America/Toronto:20251015T150000
DTSTAMP:20260422T063137
CREATED:20250908T194352Z
LAST-MODIFIED:20250908T194352Z
UID:7592-1760536800-1760540400@internationalexperience.utoronto.ca
SUMMARY:Working in Canada and Entry Documents: Online Q&A Session
DESCRIPTION:Are you an international student who would like to work in Canada? Do you have questions about your legal authorization to work? We have the answers! \nThis live online Question and Answer (Q&A) session will be hosted by one of CIE’s immigration advisors. Come ask your questions directly! \nYour questions will guide the discussion. \n(To pre-register for this Q&A session\, click the ‘Website’ link below. Your Folio booking confirmation message will include the Zoom session link.)
URL:https://internationalexperience.utoronto.ca/event/working-in-canada-and-entry-documents-online-qa-session-86
LOCATION:Virtual Location\, See event details for registration and/or access link.\, Canada
CATEGORIES:Entry Documents,Information,working in canada
ORGANIZER;CN="International Student Immigration Advisors - Centre for International Experience (CIE)":MAILTO:isa.cie@utoronto.ca
END:VEVENT
BEGIN:VEVENT
DTSTART;TZID=America/Toronto:20251021T140000
DTEND;TZID=America/Toronto:20251021T150000
DTSTAMP:20260422T063137
CREATED:20250908T194527Z
LAST-MODIFIED:20250908T194527Z
UID:7593-1761055200-1761058800@internationalexperience.utoronto.ca
SUMMARY:Working in Canada and Entry Documents: Online Q&A Session
DESCRIPTION:Are you an international student who would like to work in Canada? Do you have questions about your legal authorization to work? We have the answers! \nThis live online Question and Answer (Q&A) session will be hosted by one of CIE’s immigration advisors. Come ask your questions directly! \nYour questions will guide the discussion. \n(To pre-register for this Q&A session\, click the ‘Website’ link below. Your Folio booking confirmation message will include the Zoom session link.)
URL:https://internationalexperience.utoronto.ca/event/working-in-canada-and-entry-documents-online-qa-session-87
LOCATION:Virtual Location\, See event details for registration and/or access link.\, Canada
CATEGORIES:Entry Documents,Information,working in canada
ORGANIZER;CN="International Student Immigration Advisors - Centre for International Experience (CIE)":MAILTO:isa.cie@utoronto.ca
END:VEVENT
BEGIN:VEVENT
DTSTART;TZID=America/Toronto:20251023T100000
DTEND;TZID=America/Toronto:20251023T110000
DTSTAMP:20260422T063137
CREATED:20250908T211255Z
LAST-MODIFIED:20250908T211255Z
UID:7605-1761213600-1761217200@internationalexperience.utoronto.ca
SUMMARY:Study Permits and Entry Documents: Online Q&A Session
DESCRIPTION:This live online Question and Answer (Q&A) session will be hosted by one of CIE’s immigration advisors. Come ask your questions directly! \nThe session will cover these topics: \n\nhow to apply for a study permit from outside Canada\nhow to apply to extend a study permit from inside Canada\nhow to get an “entry visa” (TRV) or electronic travel authorization (eTA)\n\nYour questions will guide the discussion. \n(To pre-register for this Q&A session\, click the ‘Website’ link below. Your Folio booking confirmation message will include the Zoom session link.)
URL:https://internationalexperience.utoronto.ca/event/study-permits-and-entry-documents-online-qa-session-87
LOCATION:Virtual Location\, See event details for registration and/or access link.\, Canada
CATEGORIES:Entry Documents,Information,Study Permit
ORGANIZER;CN="International Student Immigration Advisors - Centre for International Experience (CIE)":MAILTO:isa.cie@utoronto.ca
END:VEVENT
BEGIN:VEVENT
DTSTART;TZID=America/Toronto:20251028T100000
DTEND;TZID=America/Toronto:20251028T110000
DTSTAMP:20260422T063137
CREATED:20250908T211605Z
LAST-MODIFIED:20250908T211605Z
UID:7606-1761645600-1761649200@internationalexperience.utoronto.ca
SUMMARY:Study Permits and Entry Documents: Online Q&A Session
DESCRIPTION:This live online Question and Answer (Q&A) session will be hosted by one of CIE’s immigration advisors. Come ask your questions directly! \nThe session will cover these topics: \n\nhow to apply for a study permit from outside Canada\nhow to apply to extend a study permit from inside Canada\nhow to get an “entry visa” (TRV) or electronic travel authorization (eTA)\n\nYour questions will guide the discussion. \n(To pre-register for this Q&A session\, click the ‘Website’ link below. Your Folio booking confirmation message will include the Zoom session link.)
URL:https://internationalexperience.utoronto.ca/event/study-permits-and-entry-documents-online-qa-session-88
LOCATION:Virtual Location\, See event details for registration and/or access link.\, Canada
CATEGORIES:Entry Documents,Information,Study Permit
ORGANIZER;CN="International Student Immigration Advisors - Centre for International Experience (CIE)":MAILTO:isa.cie@utoronto.ca
END:VEVENT
BEGIN:VEVENT
DTSTART;TZID=America/Toronto:20251031T100000
DTEND;TZID=America/Toronto:20251031T110000
DTSTAMP:20260422T063137
CREATED:20250908T194941Z
LAST-MODIFIED:20250908T194941Z
UID:7594-1761904800-1761908400@internationalexperience.utoronto.ca
SUMMARY:Working in Canada and Entry Documents: Online Q&A Session
DESCRIPTION:Are you an international student who would like to work in Canada? Do you have questions about your legal authorization to work? We have the answers! \nThis live online Question and Answer (Q&A) session will be hosted by one of CIE’s immigration advisors. Come ask your questions directly! \nYour questions will guide the discussion. \n(To pre-register for this Q&A session\, click the ‘Website’ link below. Your Folio booking confirmation message will include the Zoom session link.)
URL:https://internationalexperience.utoronto.ca/event/working-in-canada-and-entry-documents-online-qa-session-88
LOCATION:Virtual Location\, See event details for registration and/or access link.\, Canada
CATEGORIES:Entry Documents,Information,working in canada
ORGANIZER;CN="International Student Immigration Advisors - Centre for International Experience (CIE)":MAILTO:isa.cie@utoronto.ca
END:VEVENT
END:VCALENDAR