BEGIN:VCALENDAR
VERSION:2.0
PRODID:-//Centre for International Experience - ECPv6.15.12.2//NONSGML v1.0//EN
CALSCALE:GREGORIAN
METHOD:PUBLISH
X-WR-CALNAME:Centre for International Experience
X-ORIGINAL-URL:https://internationalexperience.utoronto.ca
X-WR-CALDESC:Events for Centre for International Experience
REFRESH-INTERVAL;VALUE=DURATION:PT1H
X-Robots-Tag:noindex
X-PUBLISHED-TTL:PT1H
BEGIN:VTIMEZONE
TZID:America/Toronto
BEGIN:DAYLIGHT
TZOFFSETFROM:-0500
TZOFFSETTO:-0400
TZNAME:EDT
DTSTART:20250309T070000
END:DAYLIGHT
BEGIN:STANDARD
TZOFFSETFROM:-0400
TZOFFSETTO:-0500
TZNAME:EST
DTSTART:20251102T060000
END:STANDARD
BEGIN:DAYLIGHT
TZOFFSETFROM:-0500
TZOFFSETTO:-0400
TZNAME:EDT
DTSTART:20260308T070000
END:DAYLIGHT
BEGIN:STANDARD
TZOFFSETFROM:-0400
TZOFFSETTO:-0500
TZNAME:EST
DTSTART:20261101T060000
END:STANDARD
BEGIN:DAYLIGHT
TZOFFSETFROM:-0500
TZOFFSETTO:-0400
TZNAME:EDT
DTSTART:20270314T070000
END:DAYLIGHT
BEGIN:STANDARD
TZOFFSETFROM:-0400
TZOFFSETTO:-0500
TZNAME:EST
DTSTART:20271107T060000
END:STANDARD
END:VTIMEZONE
BEGIN:VEVENT
DTSTART;TZID=America/Toronto:20260902T100000
DTEND;TZID=America/Toronto:20260902T110000
DTSTAMP:20260420T171541
CREATED:20260211T160557Z
LAST-MODIFIED:20260211T160557Z
UID:8166-1788343200-1788346800@internationalexperience.utoronto.ca
SUMMARY:Study Permit Orientation for New International Students
DESCRIPTION:Welcome\, new international students! This live online Q&A session is intended for you.\nAttend this session to meet a CIE immigration advisor and learn more about your study permit and other documents relating to your legal status in Canada. \n(To pre-register for this Q&A\, click the ‘Website’ link below. Your Folio booking confirmation message will include the Zoom session link.) \nThis will be a group meeting with other students. If you have questions of a confidential/private nature that require privacy\, please use FOLIO to book a one-on-one appointment with one of the CIE immigration advisors. \n 
URL:https://internationalexperience.utoronto.ca/event/study-permit-orientation-for-new-international-students-18
LOCATION:Virtual Location\, See event details for registration and/or access link.\, Canada
CATEGORIES:Entry Documents,Study Permit
ORGANIZER;CN="International Student Immigration Advisors - Centre for International Experience (CIE)":MAILTO:isa.cie@utoronto.ca
END:VEVENT
BEGIN:VEVENT
DTSTART;TZID=America/Toronto:20260903T100000
DTEND;TZID=America/Toronto:20260903T110000
DTSTAMP:20260420T171541
CREATED:20260211T153113Z
LAST-MODIFIED:20260211T153113Z
UID:8150-1788429600-1788433200@internationalexperience.utoronto.ca
SUMMARY:Study Permits and Entry Documents: Online Q&A Session
DESCRIPTION:This live online Question and Answer (Q&A) session will be hosted by one of CIE’s immigration advisors. Come ask your questions directly! \nThe session will cover these topics: \n\nhow to apply for a study permit from outside Canada\nhow to apply to extend a study permit from inside Canada\nhow to get an “entry visa” (TRV) or electronic travel authorization (eTA)\n\nYour questions will guide the discussion. \n(To pre-register for this Q&A session\, click the ‘Website’ link below. Your Folio booking confirmation message will include the Zoom session link.)
URL:https://internationalexperience.utoronto.ca/event/study-permits-and-entry-documents-online-qa-session-123
LOCATION:Virtual Location\, See event details for registration and/or access link.\, Canada
CATEGORIES:Entry Documents,Study Permit
ORGANIZER;CN="International Student Immigration Advisors - Centre for International Experience (CIE)":MAILTO:isa.cie@utoronto.ca
END:VEVENT
BEGIN:VEVENT
DTSTART;TZID=America/Toronto:20260908T100000
DTEND;TZID=America/Toronto:20260908T110000
DTSTAMP:20260420T171541
CREATED:20260211T175628Z
LAST-MODIFIED:20260211T175628Z
UID:8206-1788861600-1788865200@internationalexperience.utoronto.ca
SUMMARY:Working in Canada and Entry Documents: Online Q&A Session
DESCRIPTION:Are you an international student who would like to work in Canada? Do you have questions about your legal authorization to work?  We have the answers! \nThis live online Question and Answer (Q&A) session will be hosted by one of CIE’s immigration advisors. Come ask your questions directly! \nYour questions will guide the discussion. \n(To pre-register for this Q&A session\, click the ‘Website’ link below. Your Folio booking confirmation message will include the Zoom session link.)
URL:https://internationalexperience.utoronto.ca/event/working-in-canada-and-entry-documents-online-qa-session-129
LOCATION:Virtual Location\, See event details for registration and/or access link.\, Canada
CATEGORIES:Entry Documents,working in canada
ORGANIZER;CN="International Student Immigration Advisors - Centre for International Experience (CIE)":MAILTO:isa.cie@utoronto.ca
END:VEVENT
BEGIN:VEVENT
DTSTART;TZID=America/Toronto:20260909T140000
DTEND;TZID=America/Toronto:20260909T150000
DTSTAMP:20260420T171541
CREATED:20260211T162138Z
LAST-MODIFIED:20260320T180825Z
UID:8172-1788962400-1788966000@internationalexperience.utoronto.ca
SUMMARY:Study Permit Orientation for New International Students
DESCRIPTION:Welcome\, new international students! This live online Q&A session is intended for you.\nAttend this session to meet a CIE immigration advisor and learn more about your study permit and other documents relating to your legal status in Canada. \n(To pre-register for this Q&A\, click the ‘Website’ link below. Your Folio booking confirmation message will include the Zoom session link.) \nThis will be a group meeting with other students. If you have questions of a confidential/private nature that require privacy\, please use FOLIO to book a one-on-one appointment with one of the CIE immigration advisors.
URL:https://internationalexperience.utoronto.ca/event/study-permit-orientation-for-new-international-students-21
LOCATION:Virtual Location\, See event details for registration and/or access link.\, Canada
CATEGORIES:Entry Documents,Study Permit
ORGANIZER;CN="International Student Immigration Advisors - Centre for International Experience (CIE)":MAILTO:isa.cie@utoronto.ca
END:VEVENT
BEGIN:VEVENT
DTSTART;TZID=America/Toronto:20260915T140000
DTEND;TZID=America/Toronto:20260915T150000
DTSTAMP:20260420T171541
CREATED:20260211T153353Z
LAST-MODIFIED:20260325T192356Z
UID:8152-1789480800-1789484400@internationalexperience.utoronto.ca
SUMMARY:Study Permits and Entry Documents: Online Q&A Session
DESCRIPTION:This live online Question and Answer (Q&A) session will be hosted by one of CIE’s immigration advisors. Come ask your questions directly! \nThe session will cover these topics: \n\nhow to apply for a study permit from outside Canada\nhow to apply to extend a study permit from inside Canada\nhow to get an “entry visa” (TRV) or electronic travel authorization (eTA)\n\nYour questions will guide the discussion. \n(To pre-register for this Q&A session\, click the ‘Website’ link below. Your Folio booking confirmation message will include the Zoom session link.)
URL:https://internationalexperience.utoronto.ca/event/study-permits-and-entry-documents-online-qa-session-124
LOCATION:Virtual Location\, See event details for registration and/or access link.\, Canada
CATEGORIES:Entry Documents,Study Permit
ORGANIZER;CN="International Student Immigration Advisors - Centre for International Experience (CIE)":MAILTO:isa.cie@utoronto.ca
END:VEVENT
BEGIN:VEVENT
DTSTART;TZID=America/Toronto:20260916T100000
DTEND;TZID=America/Toronto:20260916T110000
DTSTAMP:20260420T171541
CREATED:20260211T175846Z
LAST-MODIFIED:20260211T175846Z
UID:8208-1789552800-1789556400@internationalexperience.utoronto.ca
SUMMARY:Working in Canada and Entry Documents: Online Q&A Session
DESCRIPTION:Are you an international student who would like to work in Canada? Do you have questions about your legal authorization to work?  We have the answers! \nThis live online Question and Answer (Q&A) session will be hosted by one of CIE’s immigration advisors. Come ask your questions directly! \nYour questions will guide the discussion. \n(To pre-register for this Q&A session\, click the ‘Website’ link below. Your Folio booking confirmation message will include the Zoom session link.)
URL:https://internationalexperience.utoronto.ca/event/working-in-canada-and-entry-documents-online-qa-session-130
LOCATION:Virtual Location\, See event details for registration and/or access link.\, Canada
CATEGORIES:Entry Documents,working in canada
ORGANIZER;CN="International Student Immigration Advisors - Centre for International Experience (CIE)":MAILTO:isa.cie@utoronto.ca
END:VEVENT
BEGIN:VEVENT
DTSTART;TZID=America/Toronto:20260917T100000
DTEND;TZID=America/Toronto:20260917T110000
DTSTAMP:20260420T171541
CREATED:20260211T160939Z
LAST-MODIFIED:20260211T160939Z
UID:8168-1789639200-1789642800@internationalexperience.utoronto.ca
SUMMARY:Study Permit Orientation for New International Students
DESCRIPTION:Welcome\, new international students! This live online Q&A session is intended for you.\nAttend this session to meet a CIE immigration advisor and learn more about your study permit and other documents relating to your legal status in Canada. \n(To pre-register for this Q&A\, click the ‘Website’ link below. Your Folio booking confirmation message will include the Zoom session link.) \nThis will be a group meeting with other students. If you have questions of a confidential/private nature that require privacy\, please use FOLIO to book a one-on-one appointment with one of the CIE immigration advisors. \n 
URL:https://internationalexperience.utoronto.ca/event/study-permit-orientation-for-new-international-students-19
LOCATION:Virtual Location\, See event details for registration and/or access link.\, Canada
CATEGORIES:Entry Documents,Study Permit
ORGANIZER;CN="International Student Immigration Advisors - Centre for International Experience (CIE)":MAILTO:isa.cie@utoronto.ca
END:VEVENT
BEGIN:VEVENT
DTSTART;TZID=America/Toronto:20260922T100000
DTEND;TZID=America/Toronto:20260922T110000
DTSTAMP:20260420T171541
CREATED:20260211T153727Z
LAST-MODIFIED:20260211T153727Z
UID:8154-1790071200-1790074800@internationalexperience.utoronto.ca
SUMMARY:Study Permits and Entry Documents: Online Q&A Session
DESCRIPTION:This live online Question and Answer (Q&A) session will be hosted by one of CIE’s immigration advisors. Come ask your questions directly! \nThe session will cover these topics: \n\nhow to apply for a study permit from outside Canada\nhow to apply to extend a study permit from inside Canada\nhow to get an “entry visa” (TRV) or electronic travel authorization (eTA)\n\nYour questions will guide the discussion. \n(To pre-register for this Q&A session\, click the ‘Website’ link below. Your Folio booking confirmation message will include the Zoom session link.)
URL:https://internationalexperience.utoronto.ca/event/study-permits-and-entry-documents-online-qa-session-125
LOCATION:Virtual Location\, See event details for registration and/or access link.\, Canada
CATEGORIES:Entry Documents,Study Permit
ORGANIZER;CN="International Student Immigration Advisors - Centre for International Experience (CIE)":MAILTO:isa.cie@utoronto.ca
END:VEVENT
BEGIN:VEVENT
DTSTART;TZID=America/Toronto:20260923T140000
DTEND;TZID=America/Toronto:20260923T150000
DTSTAMP:20260420T171541
CREATED:20260211T161204Z
LAST-MODIFIED:20260211T161204Z
UID:8170-1790172000-1790175600@internationalexperience.utoronto.ca
SUMMARY:Study Permit Orientation for New International Students
DESCRIPTION:Welcome\, new international students! This live online Q&A session is intended for you.\nAttend this session to meet a CIE immigration advisor and learn more about your study permit and other documents relating to your legal status in Canada. \n(To pre-register for this Q&A\, click the ‘Website’ link below. Your Folio booking confirmation message will include the Zoom session link.) \nThis will be a group meeting with other students. If you have questions of a confidential/private nature that require privacy\, please use FOLIO to book a one-on-one appointment with one of the CIE immigration advisors.
URL:https://internationalexperience.utoronto.ca/event/study-permit-orientation-for-new-international-students-20
LOCATION:Virtual Location\, See event details for registration and/or access link.\, Canada
CATEGORIES:Entry Documents,Study Permit
ORGANIZER;CN="International Student Immigration Advisors - Centre for International Experience (CIE)":MAILTO:isa.cie@utoronto.ca
END:VEVENT
BEGIN:VEVENT
DTSTART;TZID=America/Toronto:20260924T140000
DTEND;TZID=America/Toronto:20260924T150000
DTSTAMP:20260420T171541
CREATED:20260211T180124Z
LAST-MODIFIED:20260211T180124Z
UID:8210-1790258400-1790262000@internationalexperience.utoronto.ca
SUMMARY:Working in Canada and Entry Documents: Online Q&A Session
DESCRIPTION:Are you an international student who would like to work in Canada? Do you have questions about your legal authorization to work?  We have the answers! \nThis live online Question and Answer (Q&A) session will be hosted by one of CIE’s immigration advisors. Come ask your questions directly! \nYour questions will guide the discussion. \n(To pre-register for this Q&A session\, click the ‘Website’ link below. Your Folio booking confirmation message will include the Zoom session link.)
URL:https://internationalexperience.utoronto.ca/event/working-in-canada-and-entry-documents-online-qa-session-131
LOCATION:Virtual Location\, See event details for registration and/or access link.\, Canada
CATEGORIES:Entry Documents,working in canada
ORGANIZER;CN="International Student Immigration Advisors - Centre for International Experience (CIE)":MAILTO:isa.cie@utoronto.ca
END:VEVENT
BEGIN:VEVENT
DTSTART;TZID=America/Toronto:20260929T140000
DTEND;TZID=America/Toronto:20260929T150000
DTSTAMP:20260420T171541
CREATED:20260211T154002Z
LAST-MODIFIED:20260325T193845Z
UID:8156-1790690400-1790694000@internationalexperience.utoronto.ca
SUMMARY:Study Permits and Entry Documents: Online Q&A Session
DESCRIPTION:This live online Question and Answer (Q&A) session will be hosted by one of CIE’s immigration advisors. Come ask your questions directly! \nThe session will cover these topics: \n\nhow to apply for a study permit from outside Canada\nhow to apply to extend a study permit from inside Canada\nhow to get an “entry visa” (TRV) or electronic travel authorization (eTA)\n\nYour questions will guide the discussion. \n(To pre-register for this Q&A session\, click the ‘Website’ link below. Your Folio booking confirmation message will include the Zoom session link.)
URL:https://internationalexperience.utoronto.ca/event/study-permits-and-entry-documents-online-qa-session-126
LOCATION:Virtual Location\, See event details for registration and/or access link.\, Canada
CATEGORIES:Entry Documents,Study Permit
ORGANIZER;CN="International Student Immigration Advisors - Centre for International Experience (CIE)":MAILTO:isa.cie@utoronto.ca
END:VEVENT
BEGIN:VEVENT
DTSTART;TZID=America/Toronto:20260930T140000
DTEND;TZID=America/Toronto:20260930T150000
DTSTAMP:20260420T171541
CREATED:20260211T180648Z
LAST-MODIFIED:20260211T180648Z
UID:8214-1790776800-1790780400@internationalexperience.utoronto.ca
SUMMARY:Working in Canada and Entry Documents: Online Q&A Session
DESCRIPTION:Are you an international student who would like to work in Canada? Do you have questions about your legal authorization to work?  We have the answers! \nThis live online Question and Answer (Q&A) session will be hosted by one of CIE’s immigration advisors. Come ask your questions directly! \nYour questions will guide the discussion. \n(To pre-register for this Q&A session\, click the ‘Website’ link below. Your Folio booking confirmation message will include the Zoom session link.)
URL:https://internationalexperience.utoronto.ca/event/working-in-canada-and-entry-documents-online-qa-session-133
LOCATION:Virtual Location\, See event details for registration and/or access link.\, Canada
CATEGORIES:Entry Documents,working in canada
ORGANIZER;CN="International Student Immigration Advisors - Centre for International Experience (CIE)":MAILTO:isa.cie@utoronto.ca
END:VEVENT
END:VCALENDAR