BEGIN:VCALENDAR
VERSION:2.0
PRODID:-//Centre for International Experience - ECPv6.15.12.2//NONSGML v1.0//EN
CALSCALE:GREGORIAN
METHOD:PUBLISH
X-ORIGINAL-URL:https://internationalexperience.utoronto.ca
X-WR-CALDESC:Events for Centre for International Experience
REFRESH-INTERVAL;VALUE=DURATION:PT1H
X-Robots-Tag:noindex
X-PUBLISHED-TTL:PT1H
BEGIN:VTIMEZONE
TZID:America/Toronto
BEGIN:DAYLIGHT
TZOFFSETFROM:-0500
TZOFFSETTO:-0400
TZNAME:EDT
DTSTART:20230312T070000
END:DAYLIGHT
BEGIN:STANDARD
TZOFFSETFROM:-0400
TZOFFSETTO:-0500
TZNAME:EST
DTSTART:20231105T060000
END:STANDARD
BEGIN:DAYLIGHT
TZOFFSETFROM:-0500
TZOFFSETTO:-0400
TZNAME:EDT
DTSTART:20240310T070000
END:DAYLIGHT
BEGIN:STANDARD
TZOFFSETFROM:-0400
TZOFFSETTO:-0500
TZNAME:EST
DTSTART:20241103T060000
END:STANDARD
BEGIN:DAYLIGHT
TZOFFSETFROM:-0500
TZOFFSETTO:-0400
TZNAME:EDT
DTSTART:20250309T070000
END:DAYLIGHT
BEGIN:STANDARD
TZOFFSETFROM:-0400
TZOFFSETTO:-0500
TZNAME:EST
DTSTART:20251102T060000
END:STANDARD
END:VTIMEZONE
BEGIN:VEVENT
DTSTART;TZID=America/Toronto:20240507T100000
DTEND;TZID=America/Toronto:20240507T110000
DTSTAMP:20260422T012117
CREATED:20240419T142626Z
LAST-MODIFIED:20240501T203503Z
UID:6050-1715076000-1715079600@internationalexperience.utoronto.ca
SUMMARY:Study Permits and Entry Documents: Online Q&A Session
DESCRIPTION:This Question and Answer (Q&A) session will cover how to apply for a study permit from outside Canada\, how to apply to extend a study permit from inside Canada\, and how to get an “entry visa” (TRV) or electronic travel authorization (eTA). Your questions will guide this session.
URL:https://internationalexperience.utoronto.ca/event/study-permits-and-entry-documents-online-qa-session-14
LOCATION:Virtual Location\, See event details for registration and/or access link.\, Canada
CATEGORIES:Entry Documents,Information,Study Permit
ORGANIZER;CN="International Student Immigration Advisors - Centre for International Experience (CIE)":MAILTO:isa.cie@utoronto.ca
END:VEVENT
BEGIN:VEVENT
DTSTART;TZID=America/Toronto:20240515T140000
DTEND;TZID=America/Toronto:20240515T150000
DTSTAMP:20260422T012117
CREATED:20240419T142908Z
LAST-MODIFIED:20240501T203241Z
UID:6051-1715781600-1715785200@internationalexperience.utoronto.ca
SUMMARY:Study Permits and Entry Documents: Online Q&A Session
DESCRIPTION:This Question and Answer (Q&A) session will cover how to apply for a study permit from outside Canada\, how to apply to extend a study permit from inside Canada\, and how to get an “entry visa” (TRV) or electronic travel authorization (eTA). Your questions will guide this session.
URL:https://internationalexperience.utoronto.ca/event/study-permits-and-entry-documents-online-qa-session-15
LOCATION:Virtual Location\, See event details for registration and/or access link.\, Canada
CATEGORIES:Entry Documents,Information,Study Permit
ORGANIZER;CN="International Student Immigration Advisors - Centre for International Experience (CIE)":MAILTO:isa.cie@utoronto.ca
END:VEVENT
BEGIN:VEVENT
DTSTART;TZID=America/Toronto:20240521T140000
DTEND;TZID=America/Toronto:20240521T150000
DTSTAMP:20260422T012117
CREATED:20240419T143018Z
LAST-MODIFIED:20240501T203040Z
UID:6052-1716300000-1716303600@internationalexperience.utoronto.ca
SUMMARY:Study Permits and Entry Documents: Online Q&A Session
DESCRIPTION:This Question and Answer (Q&A) session will cover how to apply for a study permit from outside Canada\, how to apply to extend a study permit from inside Canada\, and how to get an “entry visa” (TRV) or electronic travel authorization (eTA). Your questions will guide this session.
URL:https://internationalexperience.utoronto.ca/event/study-permits-and-entry-documents-online-qa-session-16
LOCATION:Virtual Location\, See event details for registration and/or access link.\, Canada
CATEGORIES:Entry Documents,Information,Study Permit
ORGANIZER;CN="International Student Immigration Advisors - Centre for International Experience (CIE)":MAILTO:isa.cie@utoronto.ca
END:VEVENT
BEGIN:VEVENT
DTSTART;TZID=America/Toronto:20240528T100000
DTEND;TZID=America/Toronto:20240528T110000
DTSTAMP:20260422T012117
CREATED:20240419T143132Z
LAST-MODIFIED:20240501T202822Z
UID:6053-1716890400-1716894000@internationalexperience.utoronto.ca
SUMMARY:Study Permits and Entry Documents: Online Q&A Session
DESCRIPTION:This Question and Answer (Q&A) session will cover how to apply for a study permit from outside Canada\, how to apply to extend a study permit from inside Canada\, and how to get an “entry visa” (TRV) or electronic travel authorization (eTA). Your questions will guide this session.
URL:https://internationalexperience.utoronto.ca/event/study-permits-and-entry-documents-online-qa-session-17
LOCATION:Virtual Location\, See event details for registration and/or access link.\, Canada
CATEGORIES:Entry Documents,Information,Study Permit
ORGANIZER;CN="International Student Immigration Advisors - Centre for International Experience (CIE)":MAILTO:isa.cie@utoronto.ca
END:VEVENT
END:VCALENDAR