BEGIN:VCALENDAR
VERSION:2.0
PRODID:-//Centre for International Experience - ECPv6.15.12.2//NONSGML v1.0//EN
CALSCALE:GREGORIAN
METHOD:PUBLISH
X-WR-CALNAME:Centre for International Experience
X-ORIGINAL-URL:https://internationalexperience.utoronto.ca
X-WR-CALDESC:Events for Centre for International Experience
REFRESH-INTERVAL;VALUE=DURATION:PT1H
X-Robots-Tag:noindex
X-PUBLISHED-TTL:PT1H
BEGIN:VTIMEZONE
TZID:America/Toronto
BEGIN:DAYLIGHT
TZOFFSETFROM:-0500
TZOFFSETTO:-0400
TZNAME:EDT
DTSTART:20230312T070000
END:DAYLIGHT
BEGIN:STANDARD
TZOFFSETFROM:-0400
TZOFFSETTO:-0500
TZNAME:EST
DTSTART:20231105T060000
END:STANDARD
BEGIN:DAYLIGHT
TZOFFSETFROM:-0500
TZOFFSETTO:-0400
TZNAME:EDT
DTSTART:20240310T070000
END:DAYLIGHT
BEGIN:STANDARD
TZOFFSETFROM:-0400
TZOFFSETTO:-0500
TZNAME:EST
DTSTART:20241103T060000
END:STANDARD
BEGIN:DAYLIGHT
TZOFFSETFROM:-0500
TZOFFSETTO:-0400
TZNAME:EDT
DTSTART:20250309T070000
END:DAYLIGHT
BEGIN:STANDARD
TZOFFSETFROM:-0400
TZOFFSETTO:-0500
TZNAME:EST
DTSTART:20251102T060000
END:STANDARD
END:VTIMEZONE
BEGIN:VEVENT
DTSTART;TZID=America/Toronto:20240904T100000
DTEND;TZID=America/Toronto:20240904T110000
DTSTAMP:20260420T175105
CREATED:20240725T135300Z
LAST-MODIFIED:20240816T175743Z
UID:6295-1725444000-1725447600@internationalexperience.utoronto.ca
SUMMARY:Understanding Legal Status Documents\, Q & A
DESCRIPTION:Welcome new international students! This Q&A session is intended for you.\nAttend this session to learn more about your study permit and other documents relating to your legal status in Canada. \nThis will be a group session with other students.\nIf you have questions of a confidential/private nature that require privacy\, please book a one-on-one appointment with one of the CIE immigration advisors.
URL:https://internationalexperience.utoronto.ca/event/immigration-documents-and-legal-status-orientation-qa-17
LOCATION:Virtual Location\, See event details for registration and/or access link.\, Canada
CATEGORIES:Entry Documents,Information,Study Permit,working in canada
ORGANIZER;CN="International Student Immigration Advisors - Centre for International Experience (CIE)":MAILTO:isa.cie@utoronto.ca
END:VEVENT
BEGIN:VEVENT
DTSTART;TZID=America/Toronto:20240905T100000
DTEND;TZID=America/Toronto:20240905T110000
DTSTAMP:20260420T175105
CREATED:20240725T134056Z
LAST-MODIFIED:20240725T134056Z
UID:6289-1725530400-1725534000@internationalexperience.utoronto.ca
SUMMARY:Study Permits and Entry Documents: Online Q&A Session
DESCRIPTION:This Question and Answer (Q&A) session will cover how to apply for a study permit from outside Canada\, how to apply to extend a study permit from inside Canada\, and how to get an “entry visa” (TRV) or electronic travel authorization (eTA). Your questions will guide this session.
URL:https://internationalexperience.utoronto.ca/event/study-permits-and-entry-documents-online-qa-session-31
LOCATION:Virtual Location\, See event details for registration and/or access link.\, Canada
CATEGORIES:Entry Documents,Information,Study Permit
ORGANIZER;CN="International Student Immigration Advisors - Centre for International Experience (CIE)":MAILTO:isa.cie@utoronto.ca
END:VEVENT
BEGIN:VEVENT
DTSTART;TZID=America/Toronto:20240912T140000
DTEND;TZID=America/Toronto:20240912T150000
DTSTAMP:20260420T175105
CREATED:20240725T134213Z
LAST-MODIFIED:20240725T134213Z
UID:6290-1726149600-1726153200@internationalexperience.utoronto.ca
SUMMARY:Study Permits and Entry Documents: Online Q&A Session
DESCRIPTION:This Question and Answer (Q&A) session will cover how to apply for a study permit from outside Canada\, how to apply to extend a study permit from inside Canada\, and how to get an “entry visa” (TRV) or electronic travel authorization (eTA). Your questions will guide this session.
URL:https://internationalexperience.utoronto.ca/event/study-permits-and-entry-documents-online-qa-session-32
LOCATION:Virtual Location\, See event details for registration and/or access link.\, Canada
CATEGORIES:Entry Documents,Information,Study Permit
ORGANIZER;CN="International Student Immigration Advisors - Centre for International Experience (CIE)":MAILTO:isa.cie@utoronto.ca
END:VEVENT
BEGIN:VEVENT
DTSTART;TZID=America/Toronto:20240913T140000
DTEND;TZID=America/Toronto:20240913T150000
DTSTAMP:20260420T175105
CREATED:20240725T135431Z
LAST-MODIFIED:20240816T175713Z
UID:6296-1726236000-1726239600@internationalexperience.utoronto.ca
SUMMARY:Understanding Legal Status Documents\, Q & A
DESCRIPTION:Welcome new international students! This Q&A session is intended for you.\nAttend this session to learn more about your study permit and other documents relating to your legal status in Canada. \nThis will be a group session with other students.\nIf you have questions of a confidential/private nature that require privacy\, please book a one-on-one appointment with one of the CIE immigration advisors.
URL:https://internationalexperience.utoronto.ca/event/immigration-documents-and-legal-status-orientation-qa-18
LOCATION:Virtual Location\, See event details for registration and/or access link.\, Canada
CATEGORIES:Entry Documents,Information,Study Permit,working in canada
ORGANIZER;CN="International Student Immigration Advisors - Centre for International Experience (CIE)":MAILTO:isa.cie@utoronto.ca
END:VEVENT
BEGIN:VEVENT
DTSTART;TZID=America/Toronto:20240916T140000
DTEND;TZID=America/Toronto:20240916T150000
DTSTAMP:20260420T175105
CREATED:20240725T134348Z
LAST-MODIFIED:20240725T134348Z
UID:6291-1726495200-1726498800@internationalexperience.utoronto.ca
SUMMARY:Study Permits and Entry Documents: Online Q&A Session
DESCRIPTION:This Question and Answer (Q&A) session will cover how to apply for a study permit from outside Canada\, how to apply to extend a study permit from inside Canada\, and how to get an “entry visa” (TRV) or electronic travel authorization (eTA). Your questions will guide this session.
URL:https://internationalexperience.utoronto.ca/event/study-permits-and-entry-documents-online-qa-session-33
LOCATION:Virtual Location\, See event details for registration and/or access link.\, Canada
CATEGORIES:Entry Documents,Information,Study Permit
ORGANIZER;CN="International Student Immigration Advisors - Centre for International Experience (CIE)":MAILTO:isa.cie@utoronto.ca
END:VEVENT
BEGIN:VEVENT
DTSTART;TZID=America/Toronto:20240919T100000
DTEND;TZID=America/Toronto:20240919T110000
DTSTAMP:20260420T175105
CREATED:20240725T135553Z
LAST-MODIFIED:20240816T175630Z
UID:6297-1726740000-1726743600@internationalexperience.utoronto.ca
SUMMARY:Understanding Legal Status Documents\, Q & A
DESCRIPTION:Welcome new international students! This Q&A session is intended for you.\nAttend this session to learn more about your study permit and other documents relating to your legal status in Canada. \nThis will be a group session with other students.\nIf you have questions of a confidential/private nature that require privacy\, please book a one-on-one appointment with one of the CIE immigration advisors.
URL:https://internationalexperience.utoronto.ca/event/immigration-documents-and-legal-status-orientation-qa-19
LOCATION:Virtual Location\, See event details for registration and/or access link.\, Canada
CATEGORIES:Entry Documents,Information,Study Permit,working in canada
ORGANIZER;CN="International Student Immigration Advisors - Centre for International Experience (CIE)":MAILTO:isa.cie@utoronto.ca
END:VEVENT
BEGIN:VEVENT
DTSTART;TZID=America/Toronto:20240924T100000
DTEND;TZID=America/Toronto:20240924T110000
DTSTAMP:20260420T175105
CREATED:20240725T134510Z
LAST-MODIFIED:20240725T134510Z
UID:6292-1727172000-1727175600@internationalexperience.utoronto.ca
SUMMARY:Study Permits and Entry Documents: Online Q&A Session
DESCRIPTION:This Question and Answer (Q&A) session will cover how to apply for a study permit from outside Canada\, how to apply to extend a study permit from inside Canada\, and how to get an “entry visa” (TRV) or electronic travel authorization (eTA). Your questions will guide this session.
URL:https://internationalexperience.utoronto.ca/event/study-permits-and-entry-documents-online-qa-session-34
LOCATION:Virtual Location\, See event details for registration and/or access link.\, Canada
CATEGORIES:Entry Documents,Information,Study Permit
ORGANIZER;CN="International Student Immigration Advisors - Centre for International Experience (CIE)":MAILTO:isa.cie@utoronto.ca
END:VEVENT
BEGIN:VEVENT
DTSTART;TZID=America/Toronto:20240925T140000
DTEND;TZID=America/Toronto:20240925T150000
DTSTAMP:20260420T175105
CREATED:20240725T135730Z
LAST-MODIFIED:20240816T175445Z
UID:6298-1727272800-1727276400@internationalexperience.utoronto.ca
SUMMARY:Understanding Legal Status Documents\, Q & A
DESCRIPTION:Welcome new international students! This Q&A session is intended for you.\nAttend this session to learn more about your study permit and other documents relating to your legal status in Canada. \nThis will be a group session with other students.\nIf you have questions of a confidential/private nature that require privacy\, please book a one-on-one appointment with one of the CIE immigration advisors.
URL:https://internationalexperience.utoronto.ca/event/immigration-documents-and-legal-status-orientation-qa-20
LOCATION:Virtual Location\, See event details for registration and/or access link.\, Canada
CATEGORIES:Entry Documents,Information,Study Permit,working in canada
ORGANIZER;CN="International Student Immigration Advisors - Centre for International Experience (CIE)":MAILTO:isa.cie@utoronto.ca
END:VEVENT
END:VCALENDAR