BEGIN:VCALENDAR
VERSION:2.0
PRODID:-//Centre for International Experience - ECPv6.15.12.2//NONSGML v1.0//EN
CALSCALE:GREGORIAN
METHOD:PUBLISH
X-WR-CALNAME:Centre for International Experience
X-ORIGINAL-URL:https://internationalexperience.utoronto.ca
X-WR-CALDESC:Events for Centre for International Experience
REFRESH-INTERVAL;VALUE=DURATION:PT1H
X-Robots-Tag:noindex
X-PUBLISHED-TTL:PT1H
BEGIN:VTIMEZONE
TZID:America/Toronto
BEGIN:DAYLIGHT
TZOFFSETFROM:-0500
TZOFFSETTO:-0400
TZNAME:EDT
DTSTART:20240310T070000
END:DAYLIGHT
BEGIN:STANDARD
TZOFFSETFROM:-0400
TZOFFSETTO:-0500
TZNAME:EST
DTSTART:20241103T060000
END:STANDARD
BEGIN:DAYLIGHT
TZOFFSETFROM:-0500
TZOFFSETTO:-0400
TZNAME:EDT
DTSTART:20250309T070000
END:DAYLIGHT
BEGIN:STANDARD
TZOFFSETFROM:-0400
TZOFFSETTO:-0500
TZNAME:EST
DTSTART:20251102T060000
END:STANDARD
BEGIN:DAYLIGHT
TZOFFSETFROM:-0500
TZOFFSETTO:-0400
TZNAME:EDT
DTSTART:20260308T070000
END:DAYLIGHT
BEGIN:STANDARD
TZOFFSETFROM:-0400
TZOFFSETTO:-0500
TZNAME:EST
DTSTART:20261101T060000
END:STANDARD
END:VTIMEZONE
BEGIN:VEVENT
DTSTART;TZID=America/Toronto:20250204T140000
DTEND;TZID=America/Toronto:20250204T150000
DTSTAMP:20260420T191925
CREATED:20241217T185842Z
LAST-MODIFIED:20241217T185842Z
UID:6796-1738677600-1738681200@internationalexperience.utoronto.ca
SUMMARY:Study Permits and Entry Documents: Online Q&A Session
DESCRIPTION:This Question and Answer (Q&A) session will cover how to apply for a study permit from outside Canada\, how to apply to extend a study permit from inside Canada\, and how to get an “entry visa” (TRV) or electronic travel authorization (eTA). Your questions will guide this session.
URL:https://internationalexperience.utoronto.ca/event/study-permits-and-entry-documents-online-qa-session-50
LOCATION:Virtual Location\, See event details for registration and/or access link.\, Canada
CATEGORIES:Entry Documents,Information,Study Permit
ORGANIZER;CN="International Student Immigration Advisors - Centre for International Experience (CIE)":MAILTO:isa.cie@utoronto.ca
END:VEVENT
BEGIN:VEVENT
DTSTART;TZID=America/Toronto:20250211T100000
DTEND;TZID=America/Toronto:20250211T110000
DTSTAMP:20260420T191925
CREATED:20241217T185952Z
LAST-MODIFIED:20241217T185952Z
UID:6797-1739268000-1739271600@internationalexperience.utoronto.ca
SUMMARY:Study Permits and Entry Documents: Online Q&A Session
DESCRIPTION:This Question and Answer (Q&A) session will cover how to apply for a study permit from outside Canada\, how to apply to extend a study permit from inside Canada\, and how to get an “entry visa” (TRV) or electronic travel authorization (eTA). Your questions will guide this session.
URL:https://internationalexperience.utoronto.ca/event/study-permits-and-entry-documents-online-qa-session-51
LOCATION:Virtual Location\, See event details for registration and/or access link.\, Canada
CATEGORIES:Entry Documents,Information,Study Permit
ORGANIZER;CN="International Student Immigration Advisors - Centre for International Experience (CIE)":MAILTO:isa.cie@utoronto.ca
END:VEVENT
BEGIN:VEVENT
DTSTART;TZID=America/Toronto:20250221T100000
DTEND;TZID=America/Toronto:20250221T110000
DTSTAMP:20260420T191925
CREATED:20241217T191143Z
LAST-MODIFIED:20241217T191143Z
UID:6798-1740132000-1740135600@internationalexperience.utoronto.ca
SUMMARY:Study Permits and Entry Documents: Online Q&A Session
DESCRIPTION:This Question and Answer (Q&A) session will cover how to apply for a study permit from outside Canada\, how to apply to extend a study permit from inside Canada\, and how to get an “entry visa” (TRV) or electronic travel authorization (eTA). Your questions will guide this session.
URL:https://internationalexperience.utoronto.ca/event/study-permits-and-entry-documents-online-qa-session-52
LOCATION:Virtual Location\, See event details for registration and/or access link.\, Canada
CATEGORIES:Entry Documents,Information,Study Permit
ORGANIZER;CN="International Student Immigration Advisors - Centre for International Experience (CIE)":MAILTO:isa.cie@utoronto.ca
END:VEVENT
BEGIN:VEVENT
DTSTART;TZID=America/Toronto:20250227T100000
DTEND;TZID=America/Toronto:20250227T110000
DTSTAMP:20260420T191925
CREATED:20241217T191248Z
LAST-MODIFIED:20241217T191248Z
UID:6799-1740650400-1740654000@internationalexperience.utoronto.ca
SUMMARY:Study Permits and Entry Documents: Online Q&A Session
DESCRIPTION:This Question and Answer (Q&A) session will cover how to apply for a study permit from outside Canada\, how to apply to extend a study permit from inside Canada\, and how to get an “entry visa” (TRV) or electronic travel authorization (eTA). Your questions will guide this session.
URL:https://internationalexperience.utoronto.ca/event/study-permits-and-entry-documents-online-qa-session-53
LOCATION:Virtual Location\, See event details for registration and/or access link.\, Canada
CATEGORIES:Entry Documents,Information,Study Permit
ORGANIZER;CN="International Student Immigration Advisors - Centre for International Experience (CIE)":MAILTO:isa.cie@utoronto.ca
END:VEVENT
END:VCALENDAR