BEGIN:VCALENDAR
VERSION:2.0
PRODID:-//Centre for International Experience - ECPv6.15.12.2//NONSGML v1.0//EN
CALSCALE:GREGORIAN
METHOD:PUBLISH
X-ORIGINAL-URL:https://internationalexperience.utoronto.ca
X-WR-CALDESC:Events for Centre for International Experience
REFRESH-INTERVAL;VALUE=DURATION:PT1H
X-Robots-Tag:noindex
X-PUBLISHED-TTL:PT1H
BEGIN:VTIMEZONE
TZID:America/Toronto
BEGIN:DAYLIGHT
TZOFFSETFROM:-0500
TZOFFSETTO:-0400
TZNAME:EDT
DTSTART:20230312T070000
END:DAYLIGHT
BEGIN:STANDARD
TZOFFSETFROM:-0400
TZOFFSETTO:-0500
TZNAME:EST
DTSTART:20231105T060000
END:STANDARD
BEGIN:DAYLIGHT
TZOFFSETFROM:-0500
TZOFFSETTO:-0400
TZNAME:EDT
DTSTART:20240310T070000
END:DAYLIGHT
BEGIN:STANDARD
TZOFFSETFROM:-0400
TZOFFSETTO:-0500
TZNAME:EST
DTSTART:20241103T060000
END:STANDARD
BEGIN:DAYLIGHT
TZOFFSETFROM:-0500
TZOFFSETTO:-0400
TZNAME:EDT
DTSTART:20250309T070000
END:DAYLIGHT
BEGIN:STANDARD
TZOFFSETFROM:-0400
TZOFFSETTO:-0500
TZNAME:EST
DTSTART:20251102T060000
END:STANDARD
END:VTIMEZONE
BEGIN:VEVENT
DTSTART;TZID=America/Toronto:20240402T100000
DTEND;TZID=America/Toronto:20240402T110000
DTSTAMP:20260419T084920
CREATED:20240126T191339Z
LAST-MODIFIED:20240126T191339Z
UID:5763-1712052000-1712055600@internationalexperience.utoronto.ca
SUMMARY:Working in Canada and Entry Documents: Online Q&A Session
DESCRIPTION:Are you an international student who would like to work in Canada? Do you have questions about your legal authorization to work? We have the answers!
URL:https://internationalexperience.utoronto.ca/event/working-in-canada-and-entry-documents-online-qa-session-10
LOCATION:Virtual Location\, See event details for registration and/or access link.\, Canada
CATEGORIES:Entry Documents,Information,working in canada
ORGANIZER;CN="International Student Immigration Advisors - Centre for International Experience (CIE)":MAILTO:isa.cie@utoronto.ca
END:VEVENT
BEGIN:VEVENT
DTSTART;TZID=America/Toronto:20240403T140000
DTEND;TZID=America/Toronto:20240403T150000
DTSTAMP:20260419T084920
CREATED:20240126T192716Z
LAST-MODIFIED:20240126T192716Z
UID:5772-1712152800-1712156400@internationalexperience.utoronto.ca
SUMMARY:Study Permits and Entry Documents: Online Q&A Session
DESCRIPTION:This Question and Answer (Q&A) session will cover how to apply for a study permit from outside Canada\, how to apply to extend a study permit from inside Canada\, and how to get an “entry visa” (TRV) or electronic travel authorization (eTA). Your questions will guide this session.
URL:https://internationalexperience.utoronto.ca/event/study-permits-and-entry-documents-online-qa-session-10
LOCATION:Virtual Location\, See event details for registration and/or access link.\, Canada
CATEGORIES:Entry Documents,Information,Study Permit
ORGANIZER;CN="International Student Immigration Advisors - Centre for International Experience (CIE)":MAILTO:isa.cie@utoronto.ca
END:VEVENT
BEGIN:VEVENT
DTSTART;TZID=America/Toronto:20240404T150000
DTEND;TZID=America/Toronto:20240404T160000
DTSTAMP:20260419T084920
CREATED:20240315T153059Z
LAST-MODIFIED:20240315T153059Z
UID:5984-1712242800-1712246400@internationalexperience.utoronto.ca
SUMMARY:Minor in Global Leadership - Online Information Session
DESCRIPTION:Click here to register for this online info session. \nExciting news!\nApplications for the 2nd cohort of the Minor in Global Leadership will open on March 1\, 2024. Join a dynamic community of diverse problem solvers\, leveraging the strengths of three campuses\, experiential learning\, and global engagement.\nDiscover eligibility criteria and apply for this transformative program now! Your journey to global leadership begins here.\nTo find out more\, please visit https://internationalexperience.utoronto.ca/global-experiences/global-programs/minor-in-global-leadership. \nEligibility Criteria: The program is open to all UofT undergraduate students who meet the following criteria: \n\nStudents with a minimum of 4.0 credits at the time of course enrolment for Fall 2024 who can complete the core sequenced courses over three years.\nHave a modified GPA of 2.7 (B-/70%) based on a student’s top 3.0 FCEs\nAre enrolled at the participating faculties:\nFaculty of Applied Science & Engineering (FASE)\nFaculty of Kinesiology & Physical Education (KPE)\nJohn H. Daniels Faculty of Architecture\, Landscape and Design\nUniversity of Toronto Mississauga (UTM)\nUniversity of Toronto Scarborough (UTSC)\n\nUTM and UTSC students\, contact us at global.leadership@utoronto.ca for registration purposes. We will manually register you.\nLooking forward to sharing more details about this exciting program with you.
URL:https://internationalexperience.utoronto.ca/event/minor-in-global-leadership-online-information-session
LOCATION:Virtual Location\, See event details for registration and/or access link.\, Canada
END:VEVENT
BEGIN:VEVENT
DTSTART;TZID=America/Toronto:20240405T100000
DTEND;TZID=America/Toronto:20240405T113000
DTSTAMP:20260419T084920
CREATED:20231204T231848Z
LAST-MODIFIED:20231204T231848Z
UID:5635-1712311200-1712316600@internationalexperience.utoronto.ca
SUMMARY:CRA Introduction to Income Taxes in Canada
DESCRIPTION:New to Canada? Filing your tax return for the first time? Want to learn all about taxes? Join us as a representative from the Canada Revenue Agency (CRA) gives an overview of income taxes in Canada for international students and answers your questions! \nThe event link will be emailed to registrants prior to the session. If you have any questions\, please contact us at cie.information@utoronto.ca.
URL:https://internationalexperience.utoronto.ca/event/cra-introduction-to-income-taxes-in-canada-16
LOCATION:Virtual Location\, See event details for registration and/or access link.\, Canada
END:VEVENT
BEGIN:VEVENT
DTSTART;TZID=America/Toronto:20240405T113000
DTEND;TZID=America/Toronto:20240405T143000
DTSTAMP:20260419T084920
CREATED:20240328T133734Z
LAST-MODIFIED:20240328T133734Z
UID:6002-1712316600-1712327400@internationalexperience.utoronto.ca
SUMMARY:Hip Hop Block Party
DESCRIPTION:On the anniversary of Hip Hop at 50\, Hart House and CIE invite you to a unique end of year celebration inspired by the humble beginnings of Hip Hop.  In 1973 DJ Kool Herc and his sister Cindy Campbell hosted the definitive block party – signified by a large sound system\, food\, and creative expression\, the origin story of Hip Hop began.  Fast forward to today and Hip Hop is now the world’s largest commodity\, spanning\, fashion\, performance\, dj-ing\, visual art\, language\, sport\, self-entrepreneurship and just an overall cool attitude. Hip Hop has grown and blended with many different musical styles and is expressed in many unique ways around the globe. Whether you’re into the classic early years\, a 90’s era champion\, or a fan of current hip hop\, you’ll enjoy the sounds of Hip Hop and all its musical off-shoots. \n\n\nHourly activations include hip hop dance routines\, break-dancing\, hip-hop trivia and prizes.  Take part in a basketball skills challenge\, make a craft\, try out a henna tattoo\, learn to tag or just chill while enjoying food and drink with friends and friends to be.
URL:https://internationalexperience.utoronto.ca/event/hip-hop-block-party
LOCATION:Hart House\, 7 Hart House Cir\,\, Toronto\, Ontario\, M5S 3H3\, Canada
END:VEVENT
BEGIN:VEVENT
DTSTART;TZID=America/Toronto:20240408T120000
DTEND;TZID=America/Toronto:20240408T130000
DTSTAMP:20260419T084920
CREATED:20240126T192616Z
LAST-MODIFIED:20240405T021221Z
UID:5771-1712577600-1712581200@internationalexperience.utoronto.ca
SUMMARY:Study Permits and Entry Documents: Online Q&A Session
DESCRIPTION:This Question and Answer (Q&A) session will cover how to apply for a study permit from outside Canada\, how to apply to extend a study permit from inside Canada\, and how to get an “entry visa” (TRV) or electronic travel authorization (eTA). Your questions will guide this session.
URL:https://internationalexperience.utoronto.ca/event/study-permits-and-entry-documents-online-qa-session-9
LOCATION:Virtual Location\, See event details for registration and/or access link.\, Canada
CATEGORIES:Entry Documents,Information,Study Permit
ORGANIZER;CN="International Student Immigration Advisors - Centre for International Experience (CIE)":MAILTO:isa.cie@utoronto.ca
END:VEVENT
BEGIN:VEVENT
DTSTART;TZID=America/Toronto:20240409T100000
DTEND;TZID=America/Toronto:20240409T113000
DTSTAMP:20260419T084920
CREATED:20231204T232824Z
LAST-MODIFIED:20231204T232824Z
UID:5641-1712656800-1712662200@internationalexperience.utoronto.ca
SUMMARY:Teaching Income Tax Filing CRA Demonstration
DESCRIPTION:As the deadline to file income taxes approaches\, many of you may have questions and concerns about the process of filing your tax returns. In this workshop\, representatives from the Canada Revenue Agency will be demonstrating how to file a simple tax return\, and guide you through the process step-by-step. The demonstration will be followed by a Q&A session during which students are invited to ask any questions they still have about filing their Canadian income tax returns. \nThe workshop will be held on Zoom\, and the meeting link will be shared with students prior to the session. If you have any questions\, do not hesitate to send them to cie.information@utoronto.ca
URL:https://internationalexperience.utoronto.ca/event/teaching-income-tax-filing-cra-demonstration-15
LOCATION:Virtual Location\, See event details for registration and/or access link.\, Canada
END:VEVENT
BEGIN:VEVENT
DTSTART;TZID=America/Toronto:20240412T100000
DTEND;TZID=America/Toronto:20240412T110000
DTSTAMP:20260419T084920
CREATED:20240126T191448Z
LAST-MODIFIED:20240405T132701Z
UID:5764-1712916000-1712919600@internationalexperience.utoronto.ca
SUMMARY:Working in Canada and Entry Documents: Online Q&A Session
DESCRIPTION:Are you an international student who would like to work in Canada? Do you have questions about your legal authorization to work? We have the answers!
URL:https://internationalexperience.utoronto.ca/event/working-in-canada-and-entry-documents-online-qa-session-11
LOCATION:Virtual Location\, See event details for registration and/or access link.\, Canada
CATEGORIES:Entry Documents,Information,working in canada
ORGANIZER;CN="International Student Immigration Advisors - Centre for International Experience (CIE)":MAILTO:isa.cie@utoronto.ca
END:VEVENT
BEGIN:VEVENT
DTSTART;TZID=America/Toronto:20240416T100000
DTEND;TZID=America/Toronto:20240416T110000
DTSTAMP:20260419T084920
CREATED:20240126T192506Z
LAST-MODIFIED:20240126T192506Z
UID:5770-1713261600-1713265200@internationalexperience.utoronto.ca
SUMMARY:Study Permits and Entry Documents: Online Q&A Session
DESCRIPTION:This Question and Answer (Q&A) session will cover how to apply for a study permit from outside Canada\, how to apply to extend a study permit from inside Canada\, and how to get an “entry visa” (TRV) or electronic travel authorization (eTA). Your questions will guide this session.
URL:https://internationalexperience.utoronto.ca/event/study-permits-and-entry-documents-online-qa-session-8
LOCATION:Virtual Location\, See event details for registration and/or access link.\, Canada
CATEGORIES:Entry Documents,Information,Study Permit
ORGANIZER;CN="International Student Immigration Advisors - Centre for International Experience (CIE)":MAILTO:isa.cie@utoronto.ca
END:VEVENT
BEGIN:VEVENT
DTSTART;TZID=America/Toronto:20240417T140000
DTEND;TZID=America/Toronto:20240417T153000
DTSTAMP:20260419T084920
CREATED:20231204T232013Z
LAST-MODIFIED:20240322T200509Z
UID:5636-1713362400-1713367800@internationalexperience.utoronto.ca
SUMMARY:CRA Introduction to Income Taxes in Canada
DESCRIPTION:New to Canada? Filing your tax return for the first time? Want to learn all about taxes? Join us as a representative from the Canada Revenue Agency (CRA) gives an overview of income taxes in Canada for international students and answers your questions! \nThe event link will be emailed to registrants prior to the session. If you have any questions\, please contact us at cie.information@utoronto.ca.
URL:https://internationalexperience.utoronto.ca/event/cra-introduction-to-income-taxes-in-canada-17
LOCATION:Virtual Location\, See event details for registration and/or access link.\, Canada
END:VEVENT
BEGIN:VEVENT
DTSTART;TZID=America/Toronto:20240418T130000
DTEND;TZID=America/Toronto:20240418T140000
DTSTAMP:20260419T084920
CREATED:20240126T191553Z
LAST-MODIFIED:20240126T191553Z
UID:5765-1713445200-1713448800@internationalexperience.utoronto.ca
SUMMARY:Working in Canada and Entry Documents: Online Q&A Session
DESCRIPTION:Are you an international student who would like to work in Canada? Do you have questions about your legal authorization to work? We have the answers!
URL:https://internationalexperience.utoronto.ca/event/working-in-canada-and-entry-documents-online-qa-session-12
LOCATION:Virtual Location\, See event details for registration and/or access link.\, Canada
CATEGORIES:Entry Documents,Information,working in canada
ORGANIZER;CN="International Student Immigration Advisors - Centre for International Experience (CIE)":MAILTO:isa.cie@utoronto.ca
END:VEVENT
BEGIN:VEVENT
DTSTART;TZID=America/Toronto:20240422T140000
DTEND;TZID=America/Toronto:20240422T150000
DTSTAMP:20260419T084920
CREATED:20240126T192404Z
LAST-MODIFIED:20240126T192404Z
UID:5769-1713794400-1713798000@internationalexperience.utoronto.ca
SUMMARY:Study Permits and Entry Documents: Online Q&A Session
DESCRIPTION:This Question and Answer (Q&A) session will cover how to apply for a study permit from outside Canada\, how to apply to extend a study permit from inside Canada\, and how to get an “entry visa” (TRV) or electronic travel authorization (eTA). Your questions will guide this session.
URL:https://internationalexperience.utoronto.ca/event/study-permits-and-entry-documents-online-qa-session-7
LOCATION:Virtual Location\, See event details for registration and/or access link.\, Canada
CATEGORIES:Entry Documents,Information,Study Permit
ORGANIZER;CN="International Student Immigration Advisors - Centre for International Experience (CIE)":MAILTO:isa.cie@utoronto.ca
END:VEVENT
BEGIN:VEVENT
DTSTART;TZID=America/Toronto:20240422T173000
DTEND;TZID=America/Toronto:20240422T193000
DTSTAMP:20260419T084920
CREATED:20240422T192013Z
LAST-MODIFIED:20240422T192013Z
UID:6077-1713807000-1713814200@internationalexperience.utoronto.ca
SUMMARY:Year End Celebration
DESCRIPTION:Join the UTSU\, CIE and Student Life partners for an amazing Summer Preparation and End of Year Celebration event! There will be an exciting array of activities. We welcome all students\, both domestic and international who are graduating or completing a milestone in their undergraduate educational journey. \n\nAll sessions take place at Student Commons (230 College St.). Register below for each individual session you wish to attend! \n  \nYear End Celebration – May 2\, 5:30 – 7:30 p.m. \nStudent Commons (230 College St.)\, 5th Floor \nNo registration required – just swing on by!
URL:https://internationalexperience.utoronto.ca/event/year-end-celebration
LOCATION:Student Commons 5th Floor\, 230 College St.\, Toronto\, Ontario\, M5T 1R2\, Canada
END:VEVENT
BEGIN:VEVENT
DTSTART;TZID=America/Toronto:20240423T140000
DTEND;TZID=America/Toronto:20240423T153000
DTSTAMP:20260419T084920
CREATED:20231204T232948Z
LAST-MODIFIED:20231204T232948Z
UID:5642-1713880800-1713886200@internationalexperience.utoronto.ca
SUMMARY:Teaching Income Tax Filing CRA Demonstration
DESCRIPTION:As the deadline to file income taxes approaches\, many of you may have questions and concerns about the process of filing your tax returns. In this workshop\, representatives from the Canada Revenue Agency will be demonstrating how to file a simple tax return\, and guide you through the process step-by-step. The demonstration will be followed by a Q&A session during which students are invited to ask any questions they still have about filing their Canadian income tax returns. \nThe workshop will be held on Zoom\, and the meeting link will be shared with students prior to the session. If you have any questions\, do not hesitate to send them to cie.information@utoronto.ca
URL:https://internationalexperience.utoronto.ca/event/teaching-income-tax-filing-cra-demonstration-16
LOCATION:Virtual Location\, See event details for registration and/or access link.\, Canada
END:VEVENT
BEGIN:VEVENT
DTSTART;TZID=America/Toronto:20240425T100000
DTEND;TZID=America/Toronto:20240425T110000
DTSTAMP:20260419T084920
CREATED:20240126T191704Z
LAST-MODIFIED:20240126T191704Z
UID:5766-1714039200-1714042800@internationalexperience.utoronto.ca
SUMMARY:Working in Canada and Entry Documents: Online Q&A Session
DESCRIPTION:Are you an international student who would like to work in Canada? Do you have questions about your legal authorization to work? We have the answers!
URL:https://internationalexperience.utoronto.ca/event/working-in-canada-and-entry-documents-online-qa-session-13
LOCATION:Virtual Location\, See event details for registration and/or access link.\, Canada
CATEGORIES:Entry Documents,Information,working in canada
ORGANIZER;CN="International Student Immigration Advisors - Centre for International Experience (CIE)":MAILTO:isa.cie@utoronto.ca
END:VEVENT
BEGIN:VEVENT
DTSTART;TZID=America/Toronto:20240430T100000
DTEND;TZID=America/Toronto:20240430T110000
DTSTAMP:20260419T084920
CREATED:20240126T192157Z
LAST-MODIFIED:20240126T192157Z
UID:5768-1714471200-1714474800@internationalexperience.utoronto.ca
SUMMARY:Study Permits and Entry Documents: Online Q&A Session
DESCRIPTION:This Question and Answer (Q&A) session will cover how to apply for a study permit from outside Canada\, how to apply to extend a study permit from inside Canada\, and how to get an “entry visa” (TRV) or electronic travel authorization (eTA). Your questions will guide this session.
URL:https://internationalexperience.utoronto.ca/event/study-permits-and-entry-documents-online-qa-session-6
LOCATION:Virtual Location\, See event details for registration and/or access link.\, Canada
CATEGORIES:Entry Documents,Information,Study Permit
ORGANIZER;CN="International Student Immigration Advisors - Centre for International Experience (CIE)":MAILTO:isa.cie@utoronto.ca
END:VEVENT
END:VCALENDAR