BEGIN:VCALENDAR
VERSION:2.0
PRODID:-//Centre for International Experience - ECPv6.15.12.2//NONSGML v1.0//EN
CALSCALE:GREGORIAN
METHOD:PUBLISH
X-WR-CALNAME:Centre for International Experience
X-ORIGINAL-URL:https://internationalexperience.utoronto.ca
X-WR-CALDESC:Events for Centre for International Experience
REFRESH-INTERVAL;VALUE=DURATION:PT1H
X-Robots-Tag:noindex
X-PUBLISHED-TTL:PT1H
BEGIN:VTIMEZONE
TZID:America/Toronto
BEGIN:DAYLIGHT
TZOFFSETFROM:-0500
TZOFFSETTO:-0400
TZNAME:EDT
DTSTART:20240310T070000
END:DAYLIGHT
BEGIN:STANDARD
TZOFFSETFROM:-0400
TZOFFSETTO:-0500
TZNAME:EST
DTSTART:20241103T060000
END:STANDARD
BEGIN:DAYLIGHT
TZOFFSETFROM:-0500
TZOFFSETTO:-0400
TZNAME:EDT
DTSTART:20250309T070000
END:DAYLIGHT
BEGIN:STANDARD
TZOFFSETFROM:-0400
TZOFFSETTO:-0500
TZNAME:EST
DTSTART:20251102T060000
END:STANDARD
BEGIN:DAYLIGHT
TZOFFSETFROM:-0500
TZOFFSETTO:-0400
TZNAME:EDT
DTSTART:20260308T070000
END:DAYLIGHT
BEGIN:STANDARD
TZOFFSETFROM:-0400
TZOFFSETTO:-0500
TZNAME:EST
DTSTART:20261101T060000
END:STANDARD
END:VTIMEZONE
BEGIN:VEVENT
DTSTART;TZID=America/Toronto:20250603T140000
DTEND;TZID=America/Toronto:20250603T150000
DTSTAMP:20260419T231906
CREATED:20250326T185048Z
LAST-MODIFIED:20250514T173148Z
UID:7075-1748959200-1748962800@internationalexperience.utoronto.ca
SUMMARY:Study Permits and Entry Documents: Online Q&A Session
DESCRIPTION:This live online Question and Answer (Q&A) session will be hosted by one of CIE’s immigration advisors. Come ask your questions directly! \nThe session will cover these topics: \n\nhow to apply for a study permit from outside Canada\nhow to apply to extend a study permit from inside Canada\nhow to get an “entry visa” (TRV) or electronic travel authorization (eTA)\n\nYour questions will guide the discussion. \n(To pre-register for this Q&A session\, click the ‘Website’ link below. Your Folio booking confirmation message will include the Zoom session link.)
URL:https://internationalexperience.utoronto.ca/event/study-permits-and-entry-documents-online-qa-session-67
LOCATION:Virtual Location\, See event details for registration and/or access link.\, Canada
CATEGORIES:Entry Documents,Information,Study Permit
ORGANIZER;CN="International Student Immigration Advisors - Centre for International Experience (CIE)":MAILTO:isa.cie@utoronto.ca
END:VEVENT
BEGIN:VEVENT
DTSTART;TZID=America/Toronto:20250605T100000
DTEND;TZID=America/Toronto:20250605T110000
DTSTAMP:20260419T231906
CREATED:20250325T175320Z
LAST-MODIFIED:20250514T174634Z
UID:7055-1749117600-1749121200@internationalexperience.utoronto.ca
SUMMARY:Working in Canada and Entry Documents: Online Q&A Session
DESCRIPTION:Are you an international student who would like to work in Canada? Do you have questions about your legal authorization to work? We have the answers! \nThis live online Question and Answer (Q&A) session will be hosted by one of CIE’s immigration advisors. Come ask your questions directly! \nYour questions will guide the discussion. \n(To pre-register for this Q&A session\, click the ‘Website’ link below. Your Folio booking confirmation message will include the Zoom session link.)
URL:https://internationalexperience.utoronto.ca/event/working-in-canada-and-entry-documents-online-qa-session-68
LOCATION:Virtual Location\, See event details for registration and/or access link.\, Canada
CATEGORIES:Entry Documents,Information,working in canada
ORGANIZER;CN="International Student Immigration Advisors - Centre for International Experience (CIE)":MAILTO:isa.cie@utoronto.ca
END:VEVENT
BEGIN:VEVENT
DTSTART;TZID=America/Toronto:20250610T100000
DTEND;TZID=America/Toronto:20250610T110000
DTSTAMP:20260419T231906
CREATED:20250326T185201Z
LAST-MODIFIED:20250514T173211Z
UID:7076-1749549600-1749553200@internationalexperience.utoronto.ca
SUMMARY:Study Permits and Entry Documents: Online Q&A Session
DESCRIPTION:This live online Question and Answer (Q&A) session will be hosted by one of CIE’s immigration advisors. Come ask your questions directly! \nThe session will cover these topics: \n\nhow to apply for a study permit from outside Canada\nhow to apply to extend a study permit from inside Canada\nhow to get an “entry visa” (TRV) or electronic travel authorization (eTA)\n\nYour questions will guide the discussion. \n(To pre-register for this Q&A session\, click the ‘Website’ link below. Your Folio booking confirmation message will include the Zoom session link.)
URL:https://internationalexperience.utoronto.ca/event/study-permits-and-entry-documents-online-qa-session-68
LOCATION:Virtual Location\, See event details for registration and/or access link.\, Canada
CATEGORIES:Entry Documents,Information,Study Permit
ORGANIZER;CN="International Student Immigration Advisors - Centre for International Experience (CIE)":MAILTO:isa.cie@utoronto.ca
END:VEVENT
BEGIN:VEVENT
DTSTART;TZID=America/Toronto:20250612T110000
DTEND;TZID=America/Toronto:20250612T120000
DTSTAMP:20260419T231906
CREATED:20250424T130033Z
LAST-MODIFIED:20250424T130033Z
UID:7207-1749726000-1749729600@internationalexperience.utoronto.ca
SUMMARY:UHIP Q&A
DESCRIPTION:Don’t miss this Q&A session hosted ervey week by a UHIP advisor! Prepare your UHIP related questions and we’ll answer them for you!
URL:https://internationalexperience.utoronto.ca/event/uhip-qa-17
LOCATION:Virtual Location\, See event details for registration and/or access link.\, Canada
END:VEVENT
BEGIN:VEVENT
DTSTART;TZID=America/Toronto:20250612T140000
DTEND;TZID=America/Toronto:20250612T150000
DTSTAMP:20260419T231906
CREATED:20250325T175439Z
LAST-MODIFIED:20250514T174648Z
UID:7056-1749736800-1749740400@internationalexperience.utoronto.ca
SUMMARY:Working in Canada and Entry Documents: Online Q&A Session
DESCRIPTION:Are you an international student who would like to work in Canada? Do you have questions about your legal authorization to work? We have the answers! \nThis live online Question and Answer (Q&A) session will be hosted by one of CIE’s immigration advisors. Come ask your questions directly! \nYour questions will guide the discussion. \n(To pre-register for this Q&A session\, click the ‘Website’ link below. Your Folio booking confirmation message will include the Zoom session link.)
URL:https://internationalexperience.utoronto.ca/event/working-in-canada-and-entry-documents-online-qa-session-69
LOCATION:Virtual Location\, See event details for registration and/or access link.\, Canada
CATEGORIES:Entry Documents,Information,working in canada
ORGANIZER;CN="International Student Immigration Advisors - Centre for International Experience (CIE)":MAILTO:isa.cie@utoronto.ca
END:VEVENT
BEGIN:VEVENT
DTSTART;TZID=America/Toronto:20250617T160000
DTEND;TZID=America/Toronto:20250617T190000
DTSTAMP:20260419T231906
CREATED:20250515T162623Z
LAST-MODIFIED:20250515T162623Z
UID:7270-1750176000-1750186800@internationalexperience.utoronto.ca
SUMMARY:UofT Avengers: The Scavenger Hunt
DESCRIPTION:UofT Avengers: The Scavenger Hunt is an ISE Design Challenge event! On day 1\, June 17 we will kick things off with a fun and interactive scavenger hunt at the Royal Ontario Museum\, learning through arts and artifacts while bonding with your peers. On Day 2\, June 18 brings the scavenger hunt to the UTSG campus\, where you will solve 6 exciting challenges that highlight U of T’s rich history\, academic resources\, and support for students. With kits\, giveaways\, and creative activities\, this event offers a memorable way to make connections discover campus gems\, and build confidence navigating U of T campus and Toronto. Join us for learning\, laughs\, and a chance to win fun prizes!\n\nProgram Eligibility\nAll U of T students
URL:https://internationalexperience.utoronto.ca/event/uoft-avengers-the-scavenger-hunt
LOCATION:Centre for International Experience\, 33 St George St\, Toronto ON\, Toronto\, Ontario\, M5S 2E3\, Canada
END:VEVENT
BEGIN:VEVENT
DTSTART;TZID=America/Toronto:20250618T140000
DTEND;TZID=America/Toronto:20250618T150000
DTSTAMP:20260419T231906
CREATED:20250325T175627Z
LAST-MODIFIED:20250514T174703Z
UID:7057-1750255200-1750258800@internationalexperience.utoronto.ca
SUMMARY:Working in Canada and Entry Documents: Online Q&A Session
DESCRIPTION:Are you an international student who would like to work in Canada? Do you have questions about your legal authorization to work? We have the answers! \nThis live online Question and Answer (Q&A) session will be hosted by one of CIE’s immigration advisors. Come ask your questions directly! \nYour questions will guide the discussion. \n(To pre-register for this Q&A session\, click the ‘Website’ link below. Your Folio booking confirmation message will include the Zoom session link.)
URL:https://internationalexperience.utoronto.ca/event/working-in-canada-and-entry-documents-online-qa-session-70
LOCATION:Virtual Location\, See event details for registration and/or access link.\, Canada
CATEGORIES:Entry Documents,Information,working in canada
ORGANIZER;CN="International Student Immigration Advisors - Centre for International Experience (CIE)":MAILTO:isa.cie@utoronto.ca
END:VEVENT
BEGIN:VEVENT
DTSTART;TZID=America/Toronto:20250618T160000
DTEND;TZID=America/Toronto:20250618T190000
DTSTAMP:20260419T231906
CREATED:20250515T162727Z
LAST-MODIFIED:20250515T162727Z
UID:7271-1750262400-1750273200@internationalexperience.utoronto.ca
SUMMARY:UofT Avengers: The Scavenger Hunt
DESCRIPTION:UofT Avengers: The Scavenger Hunt is an ISE Design Challenge event! On day 1\, June 17 we will kick things off with a fun and interactive scavenger hunt at the Royal Ontario Museum\, learning through arts and artifacts while bonding with your peers. On Day 2\, June 18 brings the scavenger hunt to the UTSG campus\, where you will solve 6 exciting challenges that highlight U of T’s rich history\, academic resources\, and support for students. With kits\, giveaways\, and creative activities\, this event offers a memorable way to make connections discover campus gems\, and build confidence navigating U of T campus and Toronto. Join us for learning\, laughs\, and a chance to win fun prizes!
URL:https://internationalexperience.utoronto.ca/event/uoft-avengers-the-scavenger-hunt-2
LOCATION:Centre for International Experience\, 33 St George St\, Toronto ON\, Toronto\, Ontario\, M5S 2E3\, Canada
END:VEVENT
BEGIN:VEVENT
DTSTART;TZID=America/Toronto:20250619T110000
DTEND;TZID=America/Toronto:20250619T120000
DTSTAMP:20260419T231906
CREATED:20250424T130429Z
LAST-MODIFIED:20250424T130429Z
UID:7208-1750330800-1750334400@internationalexperience.utoronto.ca
SUMMARY:UHIP Q&A
DESCRIPTION:Don’t miss this Q&A session hosted ervey week by a UHIP advisor! Prepare your UHIP related questions and we’ll answer them for you!
URL:https://internationalexperience.utoronto.ca/event/uhip-qa-18
LOCATION:Virtual Location\, See event details for registration and/or access link.\, Canada
END:VEVENT
BEGIN:VEVENT
DTSTART;TZID=America/Toronto:20250620T100000
DTEND;TZID=America/Toronto:20250620T110000
DTSTAMP:20260419T231906
CREATED:20250326T185326Z
LAST-MODIFIED:20250514T173227Z
UID:7077-1750413600-1750417200@internationalexperience.utoronto.ca
SUMMARY:Study Permits and Entry Documents: Online Q&A Session
DESCRIPTION:This live online Question and Answer (Q&A) session will be hosted by one of CIE’s immigration advisors. Come ask your questions directly! \nThe session will cover these topics: \n\nhow to apply for a study permit from outside Canada\nhow to apply to extend a study permit from inside Canada\nhow to get an “entry visa” (TRV) or electronic travel authorization (eTA)\n\nYour questions will guide the discussion. \n(To pre-register for this Q&A session\, click the ‘Website’ link below. Your Folio booking confirmation message will include the Zoom session link.)
URL:https://internationalexperience.utoronto.ca/event/study-permits-and-entry-documents-online-qa-session-69
LOCATION:Virtual Location\, See event details for registration and/or access link.\, Canada
CATEGORIES:Entry Documents,Information,Study Permit
ORGANIZER;CN="International Student Immigration Advisors - Centre for International Experience (CIE)":MAILTO:isa.cie@utoronto.ca
END:VEVENT
BEGIN:VEVENT
DTSTART;TZID=America/Toronto:20250620T170000
DTEND;TZID=America/Toronto:20250620T190000
DTSTAMP:20260419T231906
CREATED:20250409T152147Z
LAST-MODIFIED:20250409T152147Z
UID:7143-1750438800-1750446000@internationalexperience.utoronto.ca
SUMMARY:MEET THROUGH GAMES
DESCRIPTION:Join us for a fun board game night! “Meet through Games” is a board game workshop that brings U of T students together through the introduction and exploration of board games from different cultures and regions of the world. Join us to expand your social connections and improve your intercultural understanding in a relaxing and fun environment. \nAll students are welcome to attend\, no prior experience in playing board games is needed. Light refreshments will be provided. \nPlease note: *You are welcome to bring your own board games. If you choose to bring your board games to the workshop\, you are responsible for your properties.
URL:https://internationalexperience.utoronto.ca/event/meet-through-games-21
LOCATION:Centre for International Experience\, 33 St George St\, Toronto ON\, Toronto\, Ontario\, M5S 2E3\, Canada
END:VEVENT
BEGIN:VEVENT
DTSTART;TZID=America/Toronto:20250624T140000
DTEND;TZID=America/Toronto:20250624T150000
DTSTAMP:20260419T231906
CREATED:20250325T175823Z
LAST-MODIFIED:20250514T174718Z
UID:7058-1750773600-1750777200@internationalexperience.utoronto.ca
SUMMARY:Working in Canada and Entry Documents: Online Q&A Session
DESCRIPTION:Are you an international student who would like to work in Canada? Do you have questions about your legal authorization to work? We have the answers! \nThis live online Question and Answer (Q&A) session will be hosted by one of CIE’s immigration advisors. Come ask your questions directly! \nYour questions will guide the discussion. \n(To pre-register for this Q&A session\, click the ‘Website’ link below. Your Folio booking confirmation message will include the Zoom session link.)
URL:https://internationalexperience.utoronto.ca/event/working-in-canada-and-entry-documents-online-qa-session-71
LOCATION:Virtual Location\, See event details for registration and/or access link.\, Canada
CATEGORIES:Entry Documents,Information,working in canada
ORGANIZER;CN="International Student Immigration Advisors - Centre for International Experience (CIE)":MAILTO:isa.cie@utoronto.ca
END:VEVENT
BEGIN:VEVENT
DTSTART;TZID=America/Toronto:20250626T100000
DTEND;TZID=America/Toronto:20250626T110000
DTSTAMP:20260419T231906
CREATED:20250326T185433Z
LAST-MODIFIED:20250514T173255Z
UID:7078-1750932000-1750935600@internationalexperience.utoronto.ca
SUMMARY:Study Permits and Entry Documents: Online Q&A Session
DESCRIPTION:This live online Question and Answer (Q&A) session will be hosted by one of CIE’s immigration advisors. Come ask your questions directly! \nThe session will cover these topics: \n\nhow to apply for a study permit from outside Canada\nhow to apply to extend a study permit from inside Canada\nhow to get an “entry visa” (TRV) or electronic travel authorization (eTA)\n\nYour questions will guide the discussion. \n(To pre-register for this Q&A session\, click the ‘Website’ link below. Your Folio booking confirmation message will include the Zoom session link.)
URL:https://internationalexperience.utoronto.ca/event/study-permits-and-entry-documents-online-qa-session-70
LOCATION:Virtual Location\, See event details for registration and/or access link.\, Canada
CATEGORIES:Entry Documents,Information,Study Permit
ORGANIZER;CN="International Student Immigration Advisors - Centre for International Experience (CIE)":MAILTO:isa.cie@utoronto.ca
END:VEVENT
BEGIN:VEVENT
DTSTART;TZID=America/Toronto:20250626T110000
DTEND;TZID=America/Toronto:20250626T120000
DTSTAMP:20260419T231906
CREATED:20250424T130648Z
LAST-MODIFIED:20250424T130648Z
UID:7209-1750935600-1750939200@internationalexperience.utoronto.ca
SUMMARY:UHIP Q&A
DESCRIPTION:Don’t miss this Q&A session hosted ervey week by a UHIP advisor! Prepare your UHIP related questions and we’ll answer them for you!
URL:https://internationalexperience.utoronto.ca/event/uhip-qa-19
LOCATION:Virtual Location\, See event details for registration and/or access link.\, Canada
END:VEVENT
END:VCALENDAR