BEGIN:VCALENDAR
VERSION:2.0
PRODID:-//Centre for International Experience - ECPv6.15.12.2//NONSGML v1.0//EN
CALSCALE:GREGORIAN
METHOD:PUBLISH
X-WR-CALNAME:Centre for International Experience
X-ORIGINAL-URL:https://internationalexperience.utoronto.ca
X-WR-CALDESC:Events for Centre for International Experience
REFRESH-INTERVAL;VALUE=DURATION:PT1H
X-Robots-Tag:noindex
X-PUBLISHED-TTL:PT1H
BEGIN:VTIMEZONE
TZID:America/Toronto
BEGIN:DAYLIGHT
TZOFFSETFROM:-0500
TZOFFSETTO:-0400
TZNAME:EDT
DTSTART:20240310T070000
END:DAYLIGHT
BEGIN:STANDARD
TZOFFSETFROM:-0400
TZOFFSETTO:-0500
TZNAME:EST
DTSTART:20241103T060000
END:STANDARD
BEGIN:DAYLIGHT
TZOFFSETFROM:-0500
TZOFFSETTO:-0400
TZNAME:EDT
DTSTART:20250309T070000
END:DAYLIGHT
BEGIN:STANDARD
TZOFFSETFROM:-0400
TZOFFSETTO:-0500
TZNAME:EST
DTSTART:20251102T060000
END:STANDARD
BEGIN:DAYLIGHT
TZOFFSETFROM:-0500
TZOFFSETTO:-0400
TZNAME:EDT
DTSTART:20260308T070000
END:DAYLIGHT
BEGIN:STANDARD
TZOFFSETFROM:-0400
TZOFFSETTO:-0500
TZNAME:EST
DTSTART:20261101T060000
END:STANDARD
END:VTIMEZONE
BEGIN:VEVENT
DTSTART;TZID=America/Toronto:20251202T100000
DTEND;TZID=America/Toronto:20251202T110000
DTSTAMP:20260417T230355
CREATED:20250908T212405Z
LAST-MODIFIED:20250908T212405Z
UID:7611-1764669600-1764673200@internationalexperience.utoronto.ca
SUMMARY:Study Permits and Entry Documents: Online Q&A Session
DESCRIPTION:This live online Question and Answer (Q&A) session will be hosted by one of CIE’s immigration advisors. Come ask your questions directly! \nThe session will cover these topics: \n\nhow to apply for a study permit from outside Canada\nhow to apply to extend a study permit from inside Canada\nhow to get an “entry visa” (TRV) or electronic travel authorization (eTA)\n\nYour questions will guide the discussion. \n(To pre-register for this Q&A session\, click the ‘Website’ link below. Your Folio booking confirmation message will include the Zoom session link.)
URL:https://internationalexperience.utoronto.ca/event/study-permits-and-entry-documents-online-qa-session-93
LOCATION:Virtual Location\, See event details for registration and/or access link.\, Canada
CATEGORIES:Entry Documents,Information,Study Permit
ORGANIZER;CN="International Student Immigration Advisors - Centre for International Experience (CIE)":MAILTO:isa.cie@utoronto.ca
END:VEVENT
BEGIN:VEVENT
DTSTART;TZID=America/Toronto:20251203T100000
DTEND;TZID=America/Toronto:20251203T110000
DTSTAMP:20260417T230355
CREATED:20250908T195846Z
LAST-MODIFIED:20250908T195846Z
UID:7599-1764756000-1764759600@internationalexperience.utoronto.ca
SUMMARY:Working in Canada and Entry Documents: Online Q&A Session
DESCRIPTION:Are you an international student who would like to work in Canada? Do you have questions about your legal authorization to work? We have the answers! \nThis live online Question and Answer (Q&A) session will be hosted by one of CIE’s immigration advisors. Come ask your questions directly! \nYour questions will guide the discussion. \n(To pre-register for this Q&A session\, click the ‘Website’ link below. Your Folio booking confirmation message will include the Zoom session link.)
URL:https://internationalexperience.utoronto.ca/event/working-in-canada-and-entry-documents-online-qa-session-93
LOCATION:Virtual Location\, See event details for registration and/or access link.\, Canada
CATEGORIES:Entry Documents,Information,working in canada
ORGANIZER;CN="International Student Immigration Advisors - Centre for International Experience (CIE)":MAILTO:isa.cie@utoronto.ca
END:VEVENT
BEGIN:VEVENT
DTSTART;TZID=America/Toronto:20251204T170000
DTEND;TZID=America/Toronto:20251204T190000
DTSTAMP:20260417T230355
CREATED:20250822T194934Z
LAST-MODIFIED:20250822T194934Z
UID:7560-1764867600-1764874800@internationalexperience.utoronto.ca
SUMMARY:MEET THROUGH GAMES
DESCRIPTION:Join us for a fun board game night! Meet Through Games is a series of board game workshops that aims to bring U of T students together and facilitate an understanding of each other’s history and culture through board games. At each session you will be exploring and playing board games from different regions all while expanding your social connections and improving your intercultural understanding. \nAll students are welcome to attend\, and no prior experience with playing board games is needed. \nPlease note: \n*You are welcome to bring your own board games. If you choose to bring your board games to the workshop\, you are responsible for your property. \n*We select the regions for the workshops purely for the convenience of workshop logistics without any cultural implications. Please feel free to reach out if you have any concerns or more ideas about this event.
URL:https://internationalexperience.utoronto.ca/event/meet-through-games-25
LOCATION:Centre for International Experience\, 33 St George St\, Toronto ON\, Toronto\, Ontario\, M5S 2E3\, Canada
END:VEVENT
BEGIN:VEVENT
DTSTART;TZID=America/Toronto:20251209T140000
DTEND;TZID=America/Toronto:20251209T150000
DTSTAMP:20260417T230355
CREATED:20250908T212600Z
LAST-MODIFIED:20250908T212600Z
UID:7612-1765288800-1765292400@internationalexperience.utoronto.ca
SUMMARY:Study Permits and Entry Documents: Online Q&A Session
DESCRIPTION:This live online Question and Answer (Q&A) session will be hosted by one of CIE’s immigration advisors. Come ask your questions directly! \nThe session will cover these topics: \n\nhow to apply for a study permit from outside Canada\nhow to apply to extend a study permit from inside Canada\nhow to get an “entry visa” (TRV) or electronic travel authorization (eTA)\n\nYour questions will guide the discussion. \n(To pre-register for this Q&A session\, click the ‘Website’ link below. Your Folio booking confirmation message will include the Zoom session link.)
URL:https://internationalexperience.utoronto.ca/event/study-permits-and-entry-documents-online-qa-session-94
LOCATION:Virtual Location\, See event details for registration and/or access link.\, Canada
CATEGORIES:Entry Documents,Information,Study Permit
ORGANIZER;CN="International Student Immigration Advisors - Centre for International Experience (CIE)":MAILTO:isa.cie@utoronto.ca
END:VEVENT
BEGIN:VEVENT
DTSTART;TZID=America/Toronto:20251210T100000
DTEND;TZID=America/Toronto:20251210T110000
DTSTAMP:20260417T230355
CREATED:20250908T200021Z
LAST-MODIFIED:20250908T200021Z
UID:7600-1765360800-1765364400@internationalexperience.utoronto.ca
SUMMARY:Working in Canada and Entry Documents: Online Q&A Session
DESCRIPTION:Are you an international student who would like to work in Canada? Do you have questions about your legal authorization to work? We have the answers! \nThis live online Question and Answer (Q&A) session will be hosted by one of CIE’s immigration advisors. Come ask your questions directly! \nYour questions will guide the discussion. \n(To pre-register for this Q&A session\, click the ‘Website’ link below. Your Folio booking confirmation message will include the Zoom session link.)
URL:https://internationalexperience.utoronto.ca/event/working-in-canada-and-entry-documents-online-qa-session-94
LOCATION:Virtual Location\, See event details for registration and/or access link.\, Canada
CATEGORIES:Entry Documents,Information,working in canada
ORGANIZER;CN="International Student Immigration Advisors - Centre for International Experience (CIE)":MAILTO:isa.cie@utoronto.ca
END:VEVENT
BEGIN:VEVENT
DTSTART;TZID=America/Toronto:20251216T100000
DTEND;TZID=America/Toronto:20251216T110000
DTSTAMP:20260417T230355
CREATED:20250908T212724Z
LAST-MODIFIED:20250908T212724Z
UID:7613-1765879200-1765882800@internationalexperience.utoronto.ca
SUMMARY:Study Permits and Entry Documents: Online Q&A Session
DESCRIPTION:This live online Question and Answer (Q&A) session will be hosted by one of CIE’s immigration advisors. Come ask your questions directly! \nThe session will cover these topics: \n\nhow to apply for a study permit from outside Canada\nhow to apply to extend a study permit from inside Canada\nhow to get an “entry visa” (TRV) or electronic travel authorization (eTA)\n\nYour questions will guide the discussion. \n(To pre-register for this Q&A session\, click the ‘Website’ link below. Your Folio booking confirmation message will include the Zoom session link.)
URL:https://internationalexperience.utoronto.ca/event/study-permits-and-entry-documents-online-qa-session-95
LOCATION:Virtual Location\, See event details for registration and/or access link.\, Canada
CATEGORIES:Entry Documents,Information,Study Permit
ORGANIZER;CN="International Student Immigration Advisors - Centre for International Experience (CIE)":MAILTO:isa.cie@utoronto.ca
END:VEVENT
BEGIN:VEVENT
DTSTART;TZID=America/Toronto:20251218T140000
DTEND;TZID=America/Toronto:20251218T150000
DTSTAMP:20260417T230355
CREATED:20250908T200515Z
LAST-MODIFIED:20250908T200515Z
UID:7601-1766066400-1766070000@internationalexperience.utoronto.ca
SUMMARY:Working in Canada and Entry Documents: Online Q&A Session
DESCRIPTION:Are you an international student who would like to work in Canada? Do you have questions about your legal authorization to work? We have the answers! \nThis live online Question and Answer (Q&A) session will be hosted by one of CIE’s immigration advisors. Come ask your questions directly! \nYour questions will guide the discussion. \n(To pre-register for this Q&A session\, click the ‘Website’ link below. Your Folio booking confirmation message will include the Zoom session link.)
URL:https://internationalexperience.utoronto.ca/event/working-in-canada-and-entry-documents-online-qa-session-95
LOCATION:Virtual Location\, See event details for registration and/or access link.\, Canada
CATEGORIES:Entry Documents,Information,working in canada
ORGANIZER;CN="International Student Immigration Advisors - Centre for International Experience (CIE)":MAILTO:isa.cie@utoronto.ca
END:VEVENT
END:VCALENDAR